BEGIN:VCALENDAR
VERSION:2.0
PRODID:-//ChamberMaster//Event Calendar 2.0//EN
METHOD:PUBLISH
X-PUBLISHED-TTL:P3D
REFRESH-INTERVAL:P3D
CALSCALE:GREGORIAN
BEGIN:VEVENT
DTSTART;VALUE=DATE:20170819
DTEND;VALUE=DATE:20170821
TRANSP:TRANSPARENT
X-MICROSOFT-CDO-ALLDAYEVENT:TRUE
SUMMARY:Annual Gnome Festival
DESCRIPTION:GNOME FEST | AUGUST 19 | YEARLY FESTIVAL CELEBRATING GNOMES | | KID FRIENDLY ACTIVITIES |\n\n\n\nGnome Themed Bike Parade 11am- starts at Buck's Bikes\n\n\n\nSaturday Market on Front & Meriweather Street with Gnome Hat decorating- 11am-4pm\n\n\n\nCome and party with us and The Not-Its! during our family concert and dance party in Horse Shoe Park in the farm district. Head to The Sweet Life after for a meet & greet with the band!\n\n\n\nDrink Gnome Sangria at The Stowaway Wine & Cheese Shop\n\n\n\nPaint a garden Gnome to take home with you at Imagine That\n\n\n\n\n\nhttps://www.facebook.com/events/332189583905551/?acontext=%7B%22ref%22%3A%223%22%2C%22ref_newsfeed_story_type%22%3A%22regular%22%2C%22feed_story_type%22%3A%22279%22%2C%22action_history%22%3A%22null%22%7D
X-ALT-DESC;FMTTYPE=text/html:<span style="color: rgb(75\, 79\, 86)\; font-family: Helvetica\, Arial\, sans-serif\; font-size: 14px\; background-color: rgb(255\, 255\, 255)\;">GNOME FEST | AUGUST 19 | YEARLY FESTIVAL CELEBRATING GNOMES | | KID FRIENDLY ACTIVITIES |</span><br style="color: rgb(75\, 79\, 86)\; font-family: Helvetica\, Arial\, sans-serif\; font-size: 14px\; background-color: rgb(255\, 255\, 255)\;" />\n<br style="color: rgb(75\, 79\, 86)\; font-family: Helvetica\, Arial\, sans-serif\; font-size: 14px\; background-color: rgb(255\, 255\, 255)\;" />\n<span style="color: rgb(75\, 79\, 86)\; font-family: Helvetica\, Arial\, sans-serif\; font-size: 14px\; background-color: rgb(255\, 255\, 255)\;">Gnome Themed Bike Parade 11am- starts at Buck&#39\;s Bikes</span><br style="color: rgb(75\, 79\, 86)\; font-family: Helvetica\, Arial\, sans-serif\; font-size: 14px\; background-color: rgb(255\, 255\, 255)\;" />\n<br style="color: rgb(75\, 79\, 86)\; font-family: Helvetica\, Arial\, sans-serif\; font-size: 14px\; background-color: rgb(255\, 255\, 255)\;" />\n<span style="color: rgb(75\, 79\, 86)\; font-family: Helvetica\, Arial\, sans-serif\; font-size: 14px\; background-color: rgb(255\, 255\, 255)\;">Saturday Market on Front &amp\; Meriweather Street with Gnome Hat decorating- 11am-4pm</span><br style="color: rgb(75\, 79\, 86)\; font-family: Helvetica\, Arial\, sans-serif\; font-size: 14px\; background-color: rgb(255\, 255\, 255)\;" />\n<br style="color: rgb(75\, 79\, 86)\; font-family: Helvetica\, Arial\, sans-serif\; font-size: 14px\; background-color: rgb(255\, 255\, 255)\;" />\n<span style="color: rgb(75\, 79\, 86)\; font-family: Helvetica\, Arial\, sans-serif\; font-size: 14px\; background-color: rgb(255\, 255\, 255)\;">Come and party with us and&nbsp\;</span><a data-hovercard="/ajax/hovercard/page.php?id=82666067947&amp\;extragetparams=%7B%22directed_target_id%22%3A332189583905551%7D" data-hovercard-prefer-more-content-show="1" href="https://www.facebook.com/TheNotIts/" style="color: rgb(54\, 88\, 153)\; cursor: pointer\; text-decoration-line: none\; font-family: Helvetica\, Arial\, sans-serif\; font-size: 14px\; background-color: rgb(255\, 255\, 255)\;">The Not-Its!</a><span style="color: rgb(75\, 79\, 86)\; font-family: Helvetica\, Arial\, sans-serif\; font-size: 14px\; background-color: rgb(255\, 255\, 255)\;">&nbsp\;during our family concert and dance party in Horse Shoe Park in the farm district. Head to The Sweet Life after for a meet &amp\; greet with the band!</span><br style="color: rgb(75\, 79\, 86)\; font-family: Helvetica\, Arial\, sans-serif\; font-size: 14px\; background-color: rgb(255\, 255\, 255)\;" />\n<br style="color: rgb(75\, 79\, 86)\; font-family: Helvetica\, Arial\, sans-serif\; font-size: 14px\; background-color: rgb(255\, 255\, 255)\;" />\n<span style="color: rgb(75\, 79\, 86)\; font-family: Helvetica\, Arial\, sans-serif\; font-size: 14px\; background-color: rgb(255\, 255\, 255)\;">Drink Gnome Sangria at The Stowaway Wine &amp\; Cheese Shop</span><br style="color: rgb(75\, 79\, 86)\; font-family: Helvetica\, Arial\, sans-serif\; font-size: 14px\; background-color: rgb(255\, 255\, 255)\;" />\n<br style="color: rgb(75\, 79\, 86)\; font-family: Helvetica\, Arial\, sans-serif\; font-size: 14px\; background-color: rgb(255\, 255\, 255)\;" />\n<span style="color: rgb(75\, 79\, 86)\; font-family: Helvetica\, Arial\, sans-serif\; font-size: 14px\; background-color: rgb(255\, 255\, 255)\;">Paint a garden Gnome to take home with you at Imagine That</span><br />\n<br />\n<br />\nhttps://www.facebook.com/events/332189583905551/?acontext=%7B%22ref%22%3A%223%22%2C%22ref_newsfeed_story_type%22%3A%22regular%22%2C%22feed_story_type%22%3A%22279%22%2C%22action_history%22%3A%22null%22%7D
LOCATION:Seabrook Pacific Beach\, WA
UID:e.26.8105
SEQUENCE:3
DTSTAMP:20260426T003203Z
URL:https://chamber.graysharbor.org/events/details/annual-gnome-festival-8105
END:VEVENT

END:VCALENDAR
