BEGIN:VCALENDAR
VERSION:2.0
PRODID:-//ChamberMaster//Event Calendar 2.0//EN
METHOD:PUBLISH
X-PUBLISHED-TTL:P3D
REFRESH-INTERVAL:P3D
CALSCALE:GREGORIAN
BEGIN:VEVENT
DTSTART:20190601T180000Z
DTEND:20190602T000000Z
X-MICROSOFT-CDO-ALLDAYEVENT:FALSE
SUMMARY:Annual Plant Sale
DESCRIPTION:Second year for the HUGE Ocean Shores FOL Plant Sale in a larger facility. Plants will include house plants\, garden plants\, vegetable starts\, herbs\, trees\, succulents\, yard art\, AND SO MUCH MORE!\n\nWSU Master Gardeners will be available for assistance. Support your local library and build a beautiful garden!
X-ALT-DESC;FMTTYPE=text/html:<span style="caret-color: rgb(29\, 33\, 41)\; color: rgb(29\, 33\, 41)\; font-family: system-ui\, -apple-system\, BlinkMacSystemFont\, &quot\;.SFNSText-Regular&quot\;\, sans-serif\; font-size: 14px\; white-space: pre-wrap\;">Second year for the HUGE Ocean Shores FOL Plant Sale in a larger facility. Plants will include house plants\, garden plants\, vegetable starts\, herbs\, trees\, succulents\, yard art\, AND SO MUCH MORE!<br />\nWSU Master Gardeners will be available for assistance. Support your local library and build a beautiful garden!</span>
LOCATION:pin Ocean Shores Lions Club 833 Anchor Ave NW\, Ocean Shores\, Washington 98569
UID:e.26.11917
SEQUENCE:3
DTSTAMP:20260424T120204Z
URL:https://chamber.graysharbor.org/events/details/annual-plant-sale-11917
END:VEVENT

END:VCALENDAR
