BEGIN:VCALENDAR
VERSION:2.0
PRODID:-//ChamberMaster//Event Calendar 2.0//EN
METHOD:PUBLISH
X-PUBLISHED-TTL:P3D
REFRESH-INTERVAL:P3D
CALSCALE:GREGORIAN
BEGIN:VEVENT
DTSTART:20190331T170000Z
DTEND:20190331T220000Z
X-MICROSOFT-CDO-ALLDAYEVENT:FALSE
SUMMARY:Art Glass Float Sale
DESCRIPTION:Featuring art glass floats by Avalon Glassworks\, this annual sale benefits the Museum of the North Beach in Moclips\, WA. Get this year's special edition float called "Sunset" and buy colorful blown glass floats and sea life by Avalon Glassworks. Owners Shannon and Jon Felix are returning for their 15th year!\n\n\n\n"Sunset" is $40 plus tax/shipping with 50% directly benefitting the Museum. Inspired the Northwest evening sky\, this float is designed with a white background on which colorful transparent clouds gradate from peach to blue to purple to pink. In addition to floats\, the sale with feature aquatic glass sculptures such as sea urchins\, starfish\, and sand dollars for sale. Most items are $25-$95.\n\n\n\nIf you can't join us in person\, you can still get a float to benefit the Museum. Reserve yours by calling the Museum of the North Beach at 360-276-4441 or emailing kelly@moclips.org. Or\, order online at the Avalon Glassworks Etsy store: https://www.etsy.com/listing/683942983/moclips-special-edition-sunset-2019
X-ALT-DESC;FMTTYPE=text/html:<span style="caret-color: rgb(29\, 33\, 41)\; color: rgb(29\, 33\, 41)\; font-family: system-ui\, -apple-system\, BlinkMacSystemFont\, &quot\;.SFNSText-Regular&quot\;\, sans-serif\; font-size: 14px\; white-space: pre-wrap\;">Featuring art glass floats by Avalon Glassworks\, this annual sale benefits the Museum of the North Beach in Moclips\, WA. Get this year&#39\;s special edition float called &quot\;Sunset&quot\; and buy colorful blown glass floats and sea life by Avalon Glassworks. Owners Shannon and Jon Felix are returning for their 15th year!</span><br style="caret-color: rgb(29\, 33\, 41)\; color: rgb(29\, 33\, 41)\; font-family: system-ui\, -apple-system\, BlinkMacSystemFont\, &quot\;.SFNSText-Regular&quot\;\, sans-serif\; font-size: 14px\; white-space: pre-wrap\;" />\n<br style="caret-color: rgb(29\, 33\, 41)\; color: rgb(29\, 33\, 41)\; font-family: system-ui\, -apple-system\, BlinkMacSystemFont\, &quot\;.SFNSText-Regular&quot\;\, sans-serif\; font-size: 14px\; white-space: pre-wrap\;" />\n<span style="caret-color: rgb(29\, 33\, 41)\; color: rgb(29\, 33\, 41)\; font-family: system-ui\, -apple-system\, BlinkMacSystemFont\, &quot\;.SFNSText-Regular&quot\;\, sans-serif\; font-size: 14px\; white-space: pre-wrap\;">&quot\;Sunset&quot\; is $40 plus tax/shipping with 50% directly benefitting the Museum. Inspired the Northwest evening sky\, this float is designed with a white background on which colorful transparent clouds gradate from peach to blue to purple to pink. In addition to floats\, the sale with feature aquatic glass sculptures such as sea urchins\, starfish\, and sand dollars for sale. Most items are $25-$95.</span><br style="caret-color: rgb(29\, 33\, 41)\; color: rgb(29\, 33\, 41)\; font-family: system-ui\, -apple-system\, BlinkMacSystemFont\, &quot\;.SFNSText-Regular&quot\;\, sans-serif\; font-size: 14px\; white-space: pre-wrap\;" />\n<br style="caret-color: rgb(29\, 33\, 41)\; color: rgb(29\, 33\, 41)\; font-family: system-ui\, -apple-system\, BlinkMacSystemFont\, &quot\;.SFNSText-Regular&quot\;\, sans-serif\; font-size: 14px\; white-space: pre-wrap\;" />\n<span style="caret-color: rgb(29\, 33\, 41)\; color: rgb(29\, 33\, 41)\; font-family: system-ui\, -apple-system\, BlinkMacSystemFont\, &quot\;.SFNSText-Regular&quot\;\, sans-serif\; font-size: 14px\; white-space: pre-wrap\;">If you can&#39\;t join us in person\, you can still get a float to benefit the Museum. Reserve yours by calling the Museum of the North Beach at 360-276-4441 or emailing kelly@moclips.org. Or\, order online at the Avalon Glassworks Etsy store: </span><a data-lynx-mode="hover" data-lynx-uri="https://l.facebook.com/l.php?u=https%3A%2F%2Fwww.etsy.com%2Flisting%2F683942983%2Fmoclips-special-edition-sunset-2019%3Ffbclid%3DIwAR1XiK52Xr2WC_upzReKH9AuNJFmoLiteN-Wt0kHdgRFenrnpwuR44sA4ec&amp\;h=AT1-YYC-H4OqXHfzxBZmlUXYm93wY4O_otWvun4ScC9I2ANoLHtnsMeOOcAp15G-svE8814M0zkqRzCfkt8CSKJ2bDgE3WWphF_ipMkD1DC8ZoAAAKHGUst6r5Sxd8znld4kLMCuKA" href="https://www.etsy.com/listing/683942983/moclips-special-edition-sunset-2019?fbclid=IwAR1XiK52Xr2WC_upzReKH9AuNJFmoLiteN-Wt0kHdgRFenrnpwuR44sA4ec" rel="nofollow noopener" style="color: rgb(54\, 88\, 153)\; cursor: pointer\; text-decoration: none\; font-family: system-ui\, -apple-system\, BlinkMacSystemFont\, &quot\;.SFNSText-Regular&quot\;\, sans-serif\; font-size: 14px\; white-space: pre-wrap\;" target="_blank">https://www.etsy.com/listing/683942983/moclips-special-edition-sunset-2019</a>
LOCATION:Museum of the North Beach 4658 SR 109 Moclips\, WA
UID:e.26.11822
SEQUENCE:3
DTSTAMP:20260424T163449Z
URL:https://chamber.graysharbor.org/events/details/art-glass-float-sale-11822
END:VEVENT

END:VCALENDAR
