BEGIN:VCALENDAR
VERSION:2.0
PRODID:-//ChamberMaster//Event Calendar 2.0//EN
METHOD:PUBLISH
X-PUBLISHED-TTL:P3D
REFRESH-INTERVAL:P3D
CALSCALE:GREGORIAN
BEGIN:VEVENT
DTSTART:20170901T070000Z
DTEND:20170903T230000Z
X-MICROSOFT-CDO-ALLDAYEVENT:FALSE
SUMMARY:Associated Arts of Ocean Shores. Arts & Crafts Festival
DESCRIPTION:Arts & Crafts Festival - September\,1\,2\,3 2017 We invite Everyone to be apart of this year's Arts & Crafts Festival it will be held on Labor Day Weekend at the Ocean Shores Convention Center
X-ALT-DESC;FMTTYPE=text/html:Arts &amp\; Crafts Festival - September\,1\,2\,3 2017 We invite Everyone to be apart of this year&rsquo\;s Arts &amp\; Crafts Festival it will be held on Labor Day Weekend at the Ocean Shores Convention Center
LOCATION:Ocean Shores Convention Center 120 W Chance a La Mer NW\, Ocean Shores\, WA 98569.
UID:e.26.8058
SEQUENCE:3
DTSTAMP:20260425T230826Z
URL:https://chamber.graysharbor.org/events/details/associated-arts-of-ocean-shores-arts-crafts-festival-8058
END:VEVENT

END:VCALENDAR
