BEGIN:VCALENDAR
VERSION:2.0
PRODID:-//ChamberMaster//Event Calendar 2.0//EN
METHOD:PUBLISH
X-PUBLISHED-TTL:P3D
REFRESH-INTERVAL:P3D
CALSCALE:GREGORIAN
BEGIN:VEVENT
DTSTART:20170930T170000Z
DTEND:20170930T200000Z
X-MICROSOFT-CDO-ALLDAYEVENT:FALSE
SUMMARY:Auditions for Billy Elliot at The Bishop Center
DESCRIPTION:Auditions certain roles for the Bishop Center's Spring production of Billy Elliot are THIS SATURDAY! We are auditioning the roles of: - the Dance teacher - Mr. Braithwaite (dance teacher's assistant) - ALL ballet dancers (ages 7-17) Ballet girls should come in tights and leotards. No baggy clothing please! Bring tap shoes to the audition for Dance teacher\, Mr. Braithwaite and ballet girls. Auditions start at 10am in the Bishop Center. Spread the word and see you there!
X-ALT-DESC;FMTTYPE=text/html:Auditions certain roles for the Bishop Center&#39\;s Spring production of Billy Elliot are THIS SATURDAY! We are auditioning the roles of: - the Dance teacher - Mr. Braithwaite (dance teacher&#39\;s assistant) - ALL ballet dancers (ages 7-17) Ballet girls should come in tights and leotards. No baggy clothing please! Bring tap shoes to the audition for Dance teacher\, Mr. Braithwaite and ballet girls. Auditions start at 10am in the Bishop Center. Spread the word and see you there!
LOCATION:The Bishop Center for Performing Arts
UID:e.26.8262
SEQUENCE:3
DTSTAMP:20260425T213858Z
URL:https://chamber.graysharbor.org/events/details/auditions-for-billy-elliot-at-the-bishop-center-8262
END:VEVENT

END:VCALENDAR
