BEGIN:VCALENDAR
VERSION:2.0
PRODID:-//ChamberMaster//Event Calendar 2.0//EN
METHOD:PUBLISH
X-PUBLISHED-TTL:P3D
REFRESH-INTERVAL:P3D
CALSCALE:GREGORIAN
BEGIN:VEVENT
DTSTART:20180828T183000Z
DTEND:20180828T200000Z
X-MICROSOFT-CDO-ALLDAYEVENT:FALSE
SUMMARY:August Business Forum Lunch
DESCRIPTION:The Grays Harbor Community Foundation is a nonprofit that's known in Grays Harbor for giving grants to other non-profits in the county and for scholarships that benefit the Grays Harbor youth. However\, their real business is helping people\, families\, groups\, and businesses be philanthropic or charitable by providing the administrative and investment management services that make it easy for donors to be involved at whatever level they wish and help them accomplish their charitable goals with donations that improve the quality of life in Grays Harbor.\n\n \n\nEric Potts\, Executive Director for the Grays Harbor Community Foundation\, will be the guest speaker for the August Business Forum Lunch where he will speak on the Function of the foundation as well as the many grants and scholarships the Foundation distributes each year.\n\n \n\nReservations are requested by Tuesday\, August 21st\, 2018. Please call (360) 532-7888 to RSVP\, or simply RSVP online through this Smore flyer. Please register for each individual attending from your organization. The cost is $20 for GGHI members / $25 for non-members (lunch is included). Leaders Circle members can send an attendee for free.
X-ALT-DESC;FMTTYPE=text/html:<p style="margin: 0px\; padding: 0px\; color: rgb(85\, 85\, 85)\; font-family: &quot\;Open Sans&quot\;\, &quot\;Lucida Grande&quot\;\, arial\, sans-serif\; font-size: 15px\; background-color: rgb(255\, 255\, 255)\;">The Grays Harbor Community Foundation is a nonprofit that&#39\;s known in Grays Harbor for giving grants to other non-profits in the county and for scholarships that benefit the Grays Harbor youth. However\, their real business is helping people\, families\, groups\, and businesses be philanthropic or charitable by providing the administrative and investment management services that make it easy for donors to be involved at whatever level they wish and help them accomplish their charitable goals with donations that improve the quality of life in Grays Harbor.</p>\n\n<p style="margin: 0px\; padding: 0px\; color: rgb(85\, 85\, 85)\; font-family: &quot\;Open Sans&quot\;\, &quot\;Lucida Grande&quot\;\, arial\, sans-serif\; font-size: 15px\; background-color: rgb(255\, 255\, 255)\;">&nbsp\;</p>\n\n<p style="margin: 0px\; padding: 0px\; color: rgb(85\, 85\, 85)\; font-family: &quot\;Open Sans&quot\;\, &quot\;Lucida Grande&quot\;\, arial\, sans-serif\; font-size: 15px\; background-color: rgb(255\, 255\, 255)\;">Eric Potts\, Executive Director for the Grays Harbor Community Foundation\, will be the guest speaker for the August Business Forum Lunch where he will speak on the Function of the foundation as well as the many grants and scholarships the Foundation distributes each year.</p>\n\n<p style="margin: 0px\; padding: 0px\; color: rgb(85\, 85\, 85)\; font-family: &quot\;Open Sans&quot\;\, &quot\;Lucida Grande&quot\;\, arial\, sans-serif\; font-size: 15px\; background-color: rgb(255\, 255\, 255)\;">&nbsp\;</p>\n\n<p style="margin: 0px\; padding: 0px\; color: rgb(85\, 85\, 85)\; font-family: &quot\;Open Sans&quot\;\, &quot\;Lucida Grande&quot\;\, arial\, sans-serif\; font-size: 15px\; background-color: rgb(255\, 255\, 255)\;">Reservations are requested by<em style="font-weight: inherit\;">&nbsp\;Tuesday\, August 21st\, 2018</em>. Please call (360) 532-7888 to RSVP\, or simply RSVP online through this Smore flyer. Please register for each individual attending from your organization. The cost is $20 for GGHI members / $25 for non-members (lunch is included). Leaders Circle members can send an attendee for free.</p>\n
LOCATION:Grays Harbor Country Club Aberdeen\, WA
UID:e.26.11162
SEQUENCE:3
DTSTAMP:20260425T032933Z
URL:https://chamber.graysharbor.org/events/details/august-business-forum-lunch-11162
END:VEVENT

END:VCALENDAR
