BEGIN:VCALENDAR
VERSION:2.0
PRODID:-//ChamberMaster//Event Calendar 2.0//EN
METHOD:PUBLISH
X-PUBLISHED-TTL:P3D
REFRESH-INTERVAL:P3D
CALSCALE:GREGORIAN
BEGIN:VEVENT
DTSTART:20180401T000000Z
DTEND:20180401T030000Z
X-MICROSOFT-CDO-ALLDAYEVENT:FALSE
SUMMARY:Awards & Farm City Banquet
DESCRIPTION:Join us for our annual Awards Banquet & Farm City Dinner.\n\nCitizen of the Year\, Business of the Year\, Volunteer Group of the Year\, Community Center Volunteer of the Year\, and all Farm Awards will be named. Farm awards include Lifetime Achievement\, Environmental Stewardship and Service to Youth.\n\n\n\nTickets are on sale now and can be purchased at Timberland Bank & Anchor Bank as well as Bulldog Lanes in Montesano for $20. \n\nAll tickets must be pre purchased.\n\n\n\nDinner of all farm families (from Grays Harbor county) who would like to attend are sponsored by Montesano business owners. If you haven't received an invitation in the mail but would like added to the list contact us with your farm information\, names\, and number attending so we can ensure you are on the entrance list.\n\n\n\nThe following businesses are up for Business of the Year:\n\nMontesano Quick Stop \n\nPremier Realty Olympic Peninsula \n\nBulldog Lanes \n\nBill B and Sons Appliance Repair
X-ALT-DESC;FMTTYPE=text/html:<div class="_4-u2 _3xaf _3-95 _4-u8" style="margin-bottom: 8px\; border-width: 1px 0px\; border-style: solid\; border-image: initial\; border-color: transparent\; border-radius: 3px\; background-color: rgb(255\, 255\, 255)\; position: relative\; font-family: Helvetica\, Arial\, sans-serif\; color: rgb(29\, 33\, 41)\; font-size: 12px\;">\n<div class="_2qgs" style="color: rgb(75\, 79\, 86)\; padding: 12px\; position: relative\; border-top: none\; font-family: inherit\;"><span class="_4n-j _3cht fsl" data-testid="event-permalink-details" style="font-size: 14px\; font-family: inherit\;">Join us for our annual Awards Banquet &amp\; Farm City Dinner.<br />\nCitizen of the Year\, Business of the Year\, Volunteer Group of the Year\, Community Center Volunteer of the Year\, and all Farm Awards will be named. Farm awards include Lifetime Achievement\, Environmental Stewardship and Service to Youth.<br />\n<br />\nTickets are on sale now and can be purchased at Timberland Bank &amp\; Anchor Bank as well as Bulldog Lanes in Montesano for $20.&nbsp\;<br />\nAll tickets must be pre purchased.<br />\n<br />\nDinner of all farm families (from Grays Harbor county) who would like to attend are sponsored by Montesano business owners. If you haven&#39\;t received an invitation in the mail but would like added to the list contact us with your farm information\, names\, and number attending so we can ensure you are on the entrance list.<br />\n<br />\nThe following businesses are up for Business of the Year:<br />\nMontesano Quick Stop&nbsp\;<br />\nPremier Realty Olympic Peninsula&nbsp\;<br />\nBulldog Lanes&nbsp\;<br />\nBill B and Sons Appliance Repair</span></div>\n</div>\n
LOCATION:pin City of Montesano 112 N Main St\, Montesano\, Washington 98563
UID:e.26.10558
SEQUENCE:3
DTSTAMP:20260425T115624Z
URL:https://chamber.graysharbor.org/events/details/awards-farm-city-banquet-10558
END:VEVENT

END:VCALENDAR
