BEGIN:VCALENDAR
VERSION:2.0
PRODID:-//ChamberMaster//Event Calendar 2.0//EN
METHOD:PUBLISH
X-PUBLISHED-TTL:P3D
REFRESH-INTERVAL:P3D
CALSCALE:GREGORIAN
BEGIN:VEVENT
DTSTART;VALUE=DATE:20260425
DTEND;VALUE=DATE:20260427
TRANSP:TRANSPARENT
X-MICROSOFT-CDO-ALLDAYEVENT:TRUE
SUMMARY:Babe (1995) at 7th Street Theatre
DESCRIPTION:Gentle farmer Arthur Hoggett wins a piglet named Babe at a county fair. Narrowly escaping his fate as Christmas dinner when Farmer Hoggett decides to show him at the next fair\, Babe bonds with motherly border collie Fly and discovers that he can herd sheep too. But will the other farm animals\, including Fly's jealous husband\, Rex\, accept a pig who doesn't conform to the farm's social hierarchy?
X-ALT-DESC;FMTTYPE=text/html:<span style="font-family: Poppins\, sans-serif\; font-size: 14px\;">Gentle farmer Arthur Hoggett wins a piglet named Babe at a county fair. Narrowly escaping his fate as Christmas dinner when Farmer Hoggett decides to show him at the next fair\, Babe bonds with motherly border collie Fly and discovers that he can herd sheep too. But will the other farm animals\, including Fly&#39\;s jealous husband\, Rex\, accept a pig who doesn&#39\;t conform to the farm&#39\;s social hierarchy?</span>
LOCATION:7th Street Theatre 313 7th Street Hoquiam\, WA
UID:e.26.16773
SEQUENCE:3
DTSTAMP:20260420T231835Z
URL:https://chamber.graysharbor.org/events/details/babe-1995-at-7th-street-theatre-16773
END:VEVENT

END:VCALENDAR
