BEGIN:VCALENDAR
VERSION:2.0
PRODID:-//ChamberMaster//Event Calendar 2.0//EN
METHOD:PUBLISH
X-PUBLISHED-TTL:P3D
REFRESH-INTERVAL:P3D
CALSCALE:GREGORIAN
BEGIN:VEVENT
DTSTART:20180821T000000Z
DTEND:20180821T030000Z
X-MICROSOFT-CDO-ALLDAYEVENT:FALSE
SUMMARY:Back to School Marketplace
DESCRIPTION:Do you or someone you know need help with back to school shopping for children going into K-12th grade? We are here to help! \n\n\n\nStop by our 3rd Annual Back to School Marketplace for games\, prizes\, food\, haircuts\, backpacks\, and clothing! We have outgrown our building so we are moving to the Event Center in Downtown Aberdeen! \n\n\n\nDoors open at 5pm! \n\n\n\n\n\n**If you would like to make a donation or help with this event\, please contact Christy @ christy.schmauss@harborcitychurch.org or (360) 532-3355\n\n\n\nWe are currently accepting NEW backpacks. We will begin accepting gently used and new clothing and shoes on August 7th.
X-ALT-DESC;FMTTYPE=text/html:<span style="color: rgb(29\, 33\, 41)\; font-family: Helvetica\, Arial\, sans-serif\; font-size: 14px\; background-color: rgb(255\, 255\, 255)\;">Do you or someone you know need help with back to school shopping for children going into K-12th grade? We are here to help!&nbsp\;</span><br style="color: rgb(29\, 33\, 41)\; font-family: Helvetica\, Arial\, sans-serif\; font-size: 14px\; background-color: rgb(255\, 255\, 255)\;" />\n<br style="color: rgb(29\, 33\, 41)\; font-family: Helvetica\, Arial\, sans-serif\; font-size: 14px\; background-color: rgb(255\, 255\, 255)\;" />\n<span style="color: rgb(29\, 33\, 41)\; font-family: Helvetica\, Arial\, sans-serif\; font-size: 14px\; background-color: rgb(255\, 255\, 255)\;">Stop by our 3rd Annual Back to School Marketplace for games\, prizes\, food\, haircuts\, backpacks\, and clothing! We have outgrown our building so we are moving to the Event Center in Downtown Aberdeen!&nbsp\;</span><br style="color: rgb(29\, 33\, 41)\; font-family: Helvetica\, Arial\, sans-serif\; font-size: 14px\; background-color: rgb(255\, 255\, 255)\;" />\n<br style="color: rgb(29\, 33\, 41)\; font-family: Helvetica\, Arial\, sans-serif\; font-size: 14px\; background-color: rgb(255\, 255\, 255)\;" />\n<span style="color: rgb(29\, 33\, 41)\; font-family: Helvetica\, Arial\, sans-serif\; font-size: 14px\; background-color: rgb(255\, 255\, 255)\;">Doors open at 5pm!&nbsp\;</span><br style="color: rgb(29\, 33\, 41)\; font-family: Helvetica\, Arial\, sans-serif\; font-size: 14px\; background-color: rgb(255\, 255\, 255)\;" />\n<br style="color: rgb(29\, 33\, 41)\; font-family: Helvetica\, Arial\, sans-serif\; font-size: 14px\; background-color: rgb(255\, 255\, 255)\;" />\n<br style="color: rgb(29\, 33\, 41)\; font-family: Helvetica\, Arial\, sans-serif\; font-size: 14px\; background-color: rgb(255\, 255\, 255)\;" />\n<span style="color: rgb(29\, 33\, 41)\; font-family: Helvetica\, Arial\, sans-serif\; font-size: 14px\; background-color: rgb(255\, 255\, 255)\;">**If you would like to make a donation or help with this event\, please contact&nbsp\;</span><a href="https://www.facebook.com/christy.sayreschmauss" style="color: rgb(54\, 88\, 153)\; cursor: pointer\; text-decoration-line: none\; font-family: Helvetica\, Arial\, sans-serif\; font-size: 14px\; background-color: rgb(255\, 255\, 255)\;" target="_blank">Christy</a><span style="color: rgb(29\, 33\, 41)\; font-family: Helvetica\, Arial\, sans-serif\; font-size: 14px\; background-color: rgb(255\, 255\, 255)\;">&nbsp\;@ christy.schmauss@harborcitychurch.org or (360) 532-3355</span><br style="color: rgb(29\, 33\, 41)\; font-family: Helvetica\, Arial\, sans-serif\; font-size: 14px\; background-color: rgb(255\, 255\, 255)\;" />\n<br style="color: rgb(29\, 33\, 41)\; font-family: Helvetica\, Arial\, sans-serif\; font-size: 14px\; background-color: rgb(255\, 255\, 255)\;" />\n<span style="color: rgb(29\, 33\, 41)\; font-family: Helvetica\, Arial\, sans-serif\; font-size: 14px\; background-color: rgb(255\, 255\, 255)\;">We are currently accepting NEW backpacks. We will begin accepting gently used and new clothing and shoes on August 7th.</span>
LOCATION:D & R Event Center 122 E Heron St. Aberdeen\, WA
UID:e.26.11196
SEQUENCE:3
DTSTAMP:20260425T034036Z
URL:https://chamber.graysharbor.org/events/details/back-to-school-marketplace-11196
END:VEVENT

END:VCALENDAR
