BEGIN:VCALENDAR
VERSION:2.0
PRODID:-//ChamberMaster//Event Calendar 2.0//EN
METHOD:PUBLISH
X-PUBLISHED-TTL:P3D
REFRESH-INTERVAL:P3D
CALSCALE:GREGORIAN
BEGIN:VEVENT
DTSTART:20190817T220000Z
DTEND:20190818T050000Z
X-MICROSOFT-CDO-ALLDAYEVENT:FALSE
SUMMARY:Barn Bash
DESCRIPTION:The Horse Prayer presents Barn Bash this Saturday\, August 17th! There will be live music including Humptulips from 8pm - 10pm\, kids activities\, food\, live and silent auctions\, plus so much more! All proceeds benefit The Horse Prayer.
X-ALT-DESC;FMTTYPE=text/html:The Horse Prayer presents Barn Bash this Saturday\, August 17th! There will be live music including Humptulips from 8pm - 10pm\, kids activities\, food\, live and silent auctions\, plus so much more! All proceeds benefit The Horse Prayer.&nbsp\;
LOCATION:
UID:e.26.12167
SEQUENCE:3
DTSTAMP:20260424T085731Z
URL:https://chamber.graysharbor.org/events/details/barn-bash-12167
END:VEVENT

END:VCALENDAR
