BEGIN:VCALENDAR
VERSION:2.0
PRODID:-//ChamberMaster//Event Calendar 2.0//EN
METHOD:PUBLISH
X-PUBLISHED-TTL:P3D
REFRESH-INTERVAL:P3D
CALSCALE:GREGORIAN
BEGIN:VEVENT
DTSTART:20200516T220000Z
DTEND:20200517T065500Z
X-MICROSOFT-CDO-ALLDAYEVENT:FALSE
SUMMARY:Barn Bash 2020
DESCRIPTION:Family-friendly fundraiser to support The Horse Prayer\, an equine assisted therapeutic program for children with special needs. This event hosts kid's activities\, BBQ ranch-style dinner\, live music featuring "Humptulips"\, dancing\, live auction\, no-host bar\, and more!
X-ALT-DESC;FMTTYPE=text/html:Family-friendly fundraiser to support The Horse Prayer\, an equine assisted therapeutic program for children with special needs. This event hosts kid&#39\;s activities\, BBQ ranch-style dinner\, live music featuring &quot\;Humptulips&quot\;\, dancing\, live auction\, no-host bar\, and more!
LOCATION:Grays Harbor Fairgrounds Agricultural Building
UID:e.26.12448
SEQUENCE:3
DTSTAMP:20260421T090652Z
URL:https://chamber.graysharbor.org/events/details/barn-bash-2020-12448
END:VEVENT

END:VCALENDAR
