BEGIN:VCALENDAR
VERSION:2.0
PRODID:-//ChamberMaster//Event Calendar 2.0//EN
METHOD:PUBLISH
X-PUBLISHED-TTL:P3D
REFRESH-INTERVAL:P3D
CALSCALE:GREGORIAN
BEGIN:VEVENT
DTSTART:20170611T160000Z
DTEND:20170612T010000Z
X-MICROSOFT-CDO-ALLDAYEVENT:FALSE
SUMMARY:Basic Mediation Training
DESCRIPTION:40 Hour Basic Mediation Training\n\nWho will benefit from this training:\n\nTeachers\, Counselors\, Attorneys\, Ministers\, Social Workers\, Human Resources\, Supervisors & Managers\, Business Professionals\, Customer Service\, Sales Persons\, Law Enforcement
X-ALT-DESC;FMTTYPE=text/html:<u><strong>40 Hour Basic Mediation Training</strong></u><br />\n<em>Who will benefit from this training:</em><br />\nTeachers\, Counselors\, Attorneys\, Ministers\, Social Workers\, Human Resources\, Supervisors &amp\; Managers\, Business Professionals\, Customer Service\, Sales Persons\, Law Enforcement
LOCATION:
UID:e.26.7686
SEQUENCE:3
DTSTAMP:20260426T032455Z
URL:https://chamber.graysharbor.org/events/details/basic-mediation-training-7686
END:VEVENT

END:VCALENDAR
