BEGIN:VCALENDAR
VERSION:2.0
PRODID:-//ChamberMaster//Event Calendar 2.0//EN
METHOD:PUBLISH
X-PUBLISHED-TTL:P3D
REFRESH-INTERVAL:P3D
CALSCALE:GREGORIAN
BEGIN:VEVENT
DTSTART:20171001T013000Z
DTEND:20171001T050000Z
X-MICROSOFT-CDO-ALLDAYEVENT:FALSE
SUMMARY:Be Great Community Event
DESCRIPTION:Join us for an evening of impact as we raise awareness on the delicate subject of child sex trafficking on Saturday\, Sept 30th at The 7th Street Theatre in Hoquiam\, WA. Expert speaker\, Dr. Cyndi Romine (founder of Called To Rescue) will teach prevention\, share facts & statistics\, and help attendees understand the truths of what is happening throughout WA and the world. To lighten the mood\, we are mixing in live performances from Jackie Mitchell\, Wil Russoul\, and Ericka Corban. Enjoy food\, beverages\, beer & wine provided by Mill 109 & Hoquiam Brewing Company. From 10 PM until midnight\, our post-event celebration continues at Hoquiam Brewing Company with more live music\, activities\, and a social gathering. Get to know the speakers\, performers\, and producers of Be Great!
X-ALT-DESC;FMTTYPE=text/html:Join us for an evening of impact as we raise awareness on the delicate subject of child sex trafficking on Saturday\, Sept 30th at The 7th Street Theatre in Hoquiam\, WA. Expert speaker\, Dr. Cyndi Romine (founder of Called To Rescue) will teach prevention\, share facts &amp\; statistics\, and help attendees understand the truths of what is happening throughout WA and the world. To lighten the mood\, we are mixing in live performances from Jackie Mitchell\, Wil Russoul\, and Ericka Corban. Enjoy food\, beverages\, beer &amp\; wine provided by Mill 109 &amp\; Hoquiam Brewing Company. From 10 PM until midnight\, our post-event celebration continues at Hoquiam Brewing Company with more live music\, activities\, and a social gathering. Get to know the speakers\, performers\, and producers of Be Great!
LOCATION:7th Street Theatre
UID:e.26.8184
SEQUENCE:3
DTSTAMP:20260425T230119Z
URL:https://chamber.graysharbor.org/events/details/be-great-community-event-8184
END:VEVENT

END:VCALENDAR
