BEGIN:VCALENDAR
VERSION:2.0
PRODID:-//ChamberMaster//Event Calendar 2.0//EN
METHOD:PUBLISH
X-PUBLISHED-TTL:P3D
REFRESH-INTERVAL:P3D
CALSCALE:GREGORIAN
BEGIN:VEVENT
DTSTART;VALUE=DATE:20170616
DTEND;VALUE=DATE:20170619
TRANSP:TRANSPARENT
X-MICROSOFT-CDO-ALLDAYEVENT:TRUE
SUMMARY:Beach Volleyball Tournament
DESCRIPTION:2ND ANNUAL AVA BEACH VOLLEYBALL TOURNAMENT\n\n2nd Annual Beach Volleyball Tournament hosted by the Alki Volleyball Association will be happening on the beach all weekend. Watch juniors\, amateurs\, and pros play for prize money.\n\n	gather up a team of 4 and compete in the beginner's fours tournament for charity- so much fun for co-ed groups of non professional players!\n\n\nMore information will be posted as we get closer. visit the AVA website for volleyball information.
X-ALT-DESC;FMTTYPE=text/html:2ND ANNUAL AVA BEACH VOLLEYBALL TOURNAMENT<br />\n2nd Annual Beach Volleyball Tournament hosted by the Alki Volleyball Association will be happening on the beach all weekend. Watch juniors\, amateurs\, and pros play for prize money.\n<ul>\n	<li>gather up a team of 4 and compete in the beginner&#39\;s fours tournament for charity- so much fun for co-ed groups of non professional players!</li>\n</ul>\n\n<p>More information will be posted as we get closer. visit the <a href="http://www.seattlebeachvolleyball.com/"><font color="#0066cc">AVA website</font></a> for volleyball information.</p>\n
LOCATION:Seabrook Pacific Beach\, WA
UID:e.26.6562
SEQUENCE:3
DTSTAMP:20260426T015443Z
URL:https://chamber.graysharbor.org/events/details/beach-volleyball-tournament-6562
END:VEVENT

END:VCALENDAR
