BEGIN:VCALENDAR
VERSION:2.0
PRODID:-//ChamberMaster//Event Calendar 2.0//EN
METHOD:PUBLISH
X-PUBLISHED-TTL:P3D
REFRESH-INTERVAL:P3D
CALSCALE:GREGORIAN
BEGIN:VEVENT
DTSTART;VALUE=DATE:20200307
DTEND;VALUE=DATE:20200309
TRANSP:TRANSPARENT
X-MICROSOFT-CDO-ALLDAYEVENT:TRUE
SUMMARY:Beachcombers Fun Fair
DESCRIPTION:2020 is the 33rd annual Beachcomber's Fun Fair! There will be informational booths\, exhibits\, vendors\, displays and seminars in the Ocean Shores Convention Center. There is also planned to be a guided beach walk and the dash for trash event. \n\n\n\nVendors -- Have you found treasures on the beach? Are you the type to make wonderful creations our of your finds? Do you have some of the best beach photos ever taken? If so\, and you are interested in a booth\, please contact oseventplanner@gmail.com for more information.
X-ALT-DESC;FMTTYPE=text/html:<span style="caret-color: rgb(29\, 33\, 41)\; color: rgb(29\, 33\, 41)\; font-family: system-ui\, -apple-system\, BlinkMacSystemFont\, &quot\;.SFNSText-Regular&quot\;\, sans-serif\; font-size: 14px\; white-space: pre-wrap\;">2020 is the 33rd annual Beachcomber&#39\;s Fun Fair! There will be informational booths\, exhibits\, vendors\, displays and seminars in the Ocean Shores Convention Center. There is also planned to be a guided beach walk and the dash for trash event. </span><br style="caret-color: rgb(29\, 33\, 41)\; color: rgb(29\, 33\, 41)\; font-family: system-ui\, -apple-system\, BlinkMacSystemFont\, &quot\;.SFNSText-Regular&quot\;\, sans-serif\; font-size: 14px\; white-space: pre-wrap\;" />\n<br style="caret-color: rgb(29\, 33\, 41)\; color: rgb(29\, 33\, 41)\; font-family: system-ui\, -apple-system\, BlinkMacSystemFont\, &quot\;.SFNSText-Regular&quot\;\, sans-serif\; font-size: 14px\; white-space: pre-wrap\;" />\n<span style="caret-color: rgb(29\, 33\, 41)\; color: rgb(29\, 33\, 41)\; font-family: system-ui\, -apple-system\, BlinkMacSystemFont\, &quot\;.SFNSText-Regular&quot\;\, sans-serif\; font-size: 14px\; white-space: pre-wrap\;">Vendors -- Have you found treasures on the beach? Are you the type to make wonderful creations our of your finds? Do you have some of the best beach photos ever taken? If so\, and you are interested in a booth\, please contact oseventplanner@gmail.com for more information. </span>
LOCATION:pin Ocean Shores Convention Center 120 W Chance A la Mer NW\, Ocean Shores\, Washington 98569
UID:e.26.12285
SEQUENCE:3
DTSTAMP:20260424T055829Z
URL:https://chamber.graysharbor.org/events/details/beachcombers-fun-fair-12285
END:VEVENT

END:VCALENDAR
