BEGIN:VCALENDAR
VERSION:2.0
PRODID:-//ChamberMaster//Event Calendar 2.0//EN
METHOD:PUBLISH
X-PUBLISHED-TTL:P3D
REFRESH-INTERVAL:P3D
CALSCALE:GREGORIAN
BEGIN:VEVENT
DTSTART;VALUE=DATE:20180303
DTEND;VALUE=DATE:20180305
TRANSP:TRANSPARENT
X-MICROSOFT-CDO-ALLDAYEVENT:TRUE
SUMMARY:Beachcombers Fun Fair
DESCRIPTION:" Beachcombers Fun Fair" at the Ocean Shores Convention Center. Find out the best-kept secrets about Pacific Northwest beachcombing from the experts. Learn about tides\, flotsam and jetsam and a whole lot more. Enjoy unique displays of beach treasures found and listen to lectures. Food\, vendors\, and fun.
X-ALT-DESC;FMTTYPE=text/html:<span style="font-family: Roboto\, sans-serif\; font-size: 14px\; background-color: rgb(252\, 247\, 228)\;">&nbsp\;</span><a href="https://www.facebook.com/Beachcombers-Fun-Fair-1710268495874524/" style="box-sizing: border-box\; border: 0px\; font-family: Roboto\, sans-serif\; font-size: 14px\; font-weight: bold\; margin: 0px\; outline: 0px\; padding: 0px\; vertical-align: baseline\; text-decoration-line: none\; color: rgb(196\, 214\, 0)\; background-color: rgb(252\, 247\, 228)\;">&rdquo\; Beachcombers Fun Fair&rdquo\;</a><span style="font-family: Roboto\, sans-serif\; font-size: 14px\; background-color: rgb(252\, 247\, 228)\;">&nbsp\;at the Ocean Shores Convention Center. Find out the best-kept secrets about Pacific Northwest beachcombing from the experts. Learn about tides\, flotsam and jetsam and a whole lot more. Enjoy unique displays of beach treasures found and listen to lectures. Food\, vendors\, and fun.</span>
LOCATION:Ocean Shores Convention Center Ocean Shores\, WA
UID:e.26.9440
SEQUENCE:3
DTSTAMP:20260425T113143Z
URL:https://chamber.graysharbor.org/events/details/beachcombers-fun-fair-9440
END:VEVENT

END:VCALENDAR
