BEGIN:VCALENDAR
VERSION:2.0
PRODID:-//ChamberMaster//Event Calendar 2.0//EN
METHOD:PUBLISH
X-PUBLISHED-TTL:P3D
REFRESH-INTERVAL:P3D
CALSCALE:GREGORIAN
BEGIN:VEVENT
DTSTART:20171203T220000Z
DTEND:20171204T000000Z
X-MICROSOFT-CDO-ALLDAYEVENT:FALSE
SUMMARY:Beachcombing ID From A to Z
DESCRIPTION:Bring in your unique\, mysterious\, or everyday beachcombing finds to the Coastal Interpretive Center and local expert Alan Rammer will be on hand to identify and educate. This FREE event is in partnership with Museum of the North Beach. A prize will be awarded for the most unique beachcombing find.
X-ALT-DESC;FMTTYPE=text/html:<span style="color: rgb(75\, 79\, 86)\; font-family: Helvetica\, Arial\, sans-serif\; font-size: 14px\; background-color: rgb(255\, 255\, 255)\;">Bring in your unique\, mysterious\, or everyday beachcombing finds to the Coastal Interpretive Center and local expert Alan Rammer will be on hand to identify and educate. This FREE event is in partnership with Museum of the North Beach. A prize will be awarded for the most unique beachcombing find.&nbsp\;</span>
LOCATION:Ocean Shores Interpretive Center Ocean Shores
UID:e.26.8378
SEQUENCE:3
DTSTAMP:20260425T163711Z
URL:https://chamber.graysharbor.org/events/details/beachcombing-id-from-a-to-z-8378
END:VEVENT

END:VCALENDAR
