BEGIN:VCALENDAR
VERSION:2.0
PRODID:-//ChamberMaster//Event Calendar 2.0//EN
METHOD:PUBLISH
X-PUBLISHED-TTL:P3D
REFRESH-INTERVAL:P3D
CALSCALE:GREGORIAN
BEGIN:VEVENT
DTSTART:20190521T001500Z
DTEND:20190521T010000Z
X-MICROSOFT-CDO-ALLDAYEVENT:FALSE
SUMMARY:Becca’s Custom Wears Ribbon Cutting
DESCRIPTION:Greater Grays Harbor\, Inc. is excited to be hosting a ribbon cutting for Becca's Custom Wears on Monday\, May 20th at 5:15 pm! Their business is located in the Shoppes at Riverside (1017 S Boone St.) in Suite 62\, which is right across from Game Nuts near the Extreme Fun Center. We'd love to see you there and help us welcome them to the community!
X-ALT-DESC;FMTTYPE=text/html:<span style="caret-color: rgb(29\, 33\, 41)\; color: rgb(29\, 33\, 41)\; font-family: system-ui\, -apple-system\, BlinkMacSystemFont\, &quot\;.SFNSText-Regular&quot\;\, sans-serif\; font-size: 14px\; white-space: pre-wrap\;">Greater Grays Harbor\, Inc. is excited to be hosting a ribbon cutting for Becca&rsquo\;s Custom Wears on Monday\, May 20th at 5:15 pm! Their business is located in the Shoppes at Riverside (1017 S Boone St.) in Suite 62\, which is right across from Game Nuts near the Extreme Fun Center. We&#39\;d love to see you there and help us welcome them to the community!</span>
LOCATION:pin Becca's Custom Wears 1017 S Boone St\, Suite 62\, Aberdeen\, Washington 98520
UID:e.26.11998
SEQUENCE:3
DTSTAMP:20260424T151302Z
URL:https://chamber.graysharbor.org/events/details/becca-s-custom-wears-ribbon-cutting-11998
END:VEVENT

END:VCALENDAR
