BEGIN:VCALENDAR
VERSION:2.0
PRODID:-//ChamberMaster//Event Calendar 2.0//EN
METHOD:PUBLISH
X-PUBLISHED-TTL:P3D
REFRESH-INTERVAL:P3D
CALSCALE:GREGORIAN
BEGIN:VEVENT
DTSTART:20190317T020000Z
DTEND:20190317T030000Z
X-MICROSOFT-CDO-ALLDAYEVENT:FALSE
SUMMARY:Ben Sings at Duffy's
DESCRIPTION:Come get some amazing little wild blackberry pie (dinner\, too) and listen to Ben Fagerstedt sing some of the best from Frank Sinatra\, Dean Martin\, Sammy Davis\, Jr and Bobby Darin.
X-ALT-DESC;FMTTYPE=text/html:<span style="caret-color: rgb(29\, 33\, 41)\; color: rgb(29\, 33\, 41)\; font-family: system-ui\, -apple-system\, BlinkMacSystemFont\, &quot\;.SFNSText-Regular&quot\;\, sans-serif\; font-size: 14px\; white-space: pre-wrap\; background-color: rgb(255\, 255\, 255)\;">Come get some amazing little wild blackberry pie (dinner\, too) and listen to Ben Fagerstedt sing some of the best from Frank Sinatra\, Dean Martin\, Sammy Davis\, Jr and Bobby Darin.</span>
LOCATION:pin Duffy's Restaurant 1605 Simpson Ave\, Aberdeen\, Washington 98520
UID:e.26.11805
SEQUENCE:3
DTSTAMP:20260424T163413Z
URL:https://chamber.graysharbor.org/events/details/ben-sings-at-duffy-s-11805
END:VEVENT

END:VCALENDAR
