BEGIN:VCALENDAR
VERSION:2.0
PRODID:-//ChamberMaster//Event Calendar 2.0//EN
METHOD:PUBLISH
X-PUBLISHED-TTL:P3D
REFRESH-INTERVAL:P3D
CALSCALE:GREGORIAN
BEGIN:VEVENT
DTSTART:20190216T033000Z
DTEND:20190217T050000Z
X-MICROSOFT-CDO-ALLDAYEVENT:FALSE
SUMMARY:Benny & Joon (1993) at the 7th St. Theatre
DESCRIPTION:
X-ALT-DESC;FMTTYPE=text/html:
LOCATION:
UID:e.26.11638
SEQUENCE:3
DTSTAMP:20260424T194601Z
URL:https://chamber.graysharbor.org/events/details/benny-joon-1993-at-the-7th-st-theatre-11638
END:VEVENT

END:VCALENDAR
