BEGIN:VCALENDAR
VERSION:2.0
PRODID:-//ChamberMaster//Event Calendar 2.0//EN
METHOD:PUBLISH
X-PUBLISHED-TTL:P3D
REFRESH-INTERVAL:P3D
CALSCALE:GREGORIAN
BEGIN:VEVENT
DTSTART:20130325T160000Z
DTEND:20130329T223000Z
X-MICROSOFT-CDO-ALLDAYEVENT:FALSE
SUMMARY:Beyond Survival's Core Training
DESCRIPTION:Beyond Survival's Core Training\n\n	The design of this training is to assist participants in understanding the dynamics of sexual abuse and the important role advocates play in providing effective services to all people impacted by sexual abuse. \n\n	The training includes hands-on activities and several community presenters.\n\n	This 30+ Hour Core Training is WCSAP ( Washington Coalition of Sexual Assault Programs) approved and a certificate will be provided. \n\n	\n\n	$25 materials fee\, this can be waived in exchange for volunteer hours!\n\n	\n\n	Contact Sandra Greene\, Executive Director or Carrie Quail\, Lead Advocate at Beyond Survival for more information!\n\n	\n\n	Beyond Survival\n\n	313 South I Street\n\n	Aberdeen \,WA 98520\n\n	360.533.9751\n\n	director@ghbeyondsurvival.com
X-ALT-DESC;FMTTYPE=text/html:<h2 style="text-align: center\;">\n	<span style="font-size: 14px\;"><span comic="" sans="" style="font-family: \;"><u><span style="color: rgb(0\, 128\, 128)\;"><span style="font-size: 16px\;"><strong>Beyond Survival&#39\;s Core Training</strong></span></span></u><br />\n	The design of this training is to assist participants&nbsp\;in understanding the dynamics of sexual&nbsp\;abuse and the important role advocates play in providing effective services to all people impacted by sexual abuse.&nbsp\;</span></span></h2>\n<p style="text-align: center\;">\n	<span style="color: rgb(0\, 0\, 255)\;"><span style="font-size: 14px\;"><span comic="" sans="" style="font-family: \;">The training includes hands-on activities and several community presenters.</span></span></span></p>\n<p style="text-align: center\;">\n	<span style="font-size: 14px\;"><span comic="" sans="" style="font-family: \;"><span style="color: rgb(255\, 0\, 0)\;">This 30+ Hour Core Training is WCSAP ( Washington Coalition of Sexual Assault Programs) approved and a certificate will be provided.&nbsp\;</span><br />\n	<br />\n	<span style="color: rgb(0\, 128\, 0)\;">$25 materials fee\, this can be waived in exchange for volunteer hours!</span><br />\n	<br />\n	<span style="color: rgb(0\, 128\, 128)\;">Contact Sandra Greene\, Executive Director or Carrie Quail\, Lead Advocate at Beyond Survival for more information!</span><br />\n	<br />\n	<strong>Beyond Survival<br />\n	313 South I Street<br />\n	Aberdeen \,WA 98520<br />\n	360.533.9751</strong><br />\n	<strong><a href="mailto:director@ghbeyondsurvival.com">director@ghbeyondsurvival.com</a></strong></span></span></p>\n
LOCATION:313 South I Street\, Aberdeen WA 98520
UID:e.26.2426
SEQUENCE:3
DTSTAMP:20260420T230402Z
URL:https://chamber.graysharbor.org/events/details/beyond-survival-s-core-training-03-25-2013-2426
END:VEVENT

END:VCALENDAR
