BEGIN:VCALENDAR
VERSION:2.0
PRODID:-//ChamberMaster//Event Calendar 2.0//EN
METHOD:PUBLISH
X-PUBLISHED-TTL:P3D
REFRESH-INTERVAL:P3D
CALSCALE:GREGORIAN
BEGIN:VEVENT
DTSTART;VALUE=DATE:20190329
DTEND;VALUE=DATE:20190331
TRANSP:TRANSPARENT
X-MICROSOFT-CDO-ALLDAYEVENT:TRUE
SUMMARY:Biddy on the Bench
DESCRIPTION:Playing and singing traditional tunes on traditional instruments\, "Biddy on the Bench" brings fresh energy to the vibrant genre of old-world folk.
X-ALT-DESC;FMTTYPE=text/html:<span style="caret-color: rgb(29\, 33\, 41)\; color: rgb(29\, 33\, 41)\; font-family: system-ui\, -apple-system\, BlinkMacSystemFont\, &quot\;.SFNSText-Regular&quot\;\, sans-serif\; font-size: 14px\; white-space: pre-wrap\;">Playing and singing traditional tunes on traditional instruments\, &quot\;Biddy on the Bench&quot\; brings fresh energy to the vibrant genre of old-world folk.</span>
LOCATION:pin Galway Bay Irish Restaurant & Pub 880 Point Brown Ave NE\, Ocean Shores\, Washington 98569
UID:e.26.11850
SEQUENCE:3
DTSTAMP:20260424T163240Z
URL:https://chamber.graysharbor.org/events/details/biddy-on-the-bench-11850
END:VEVENT

END:VCALENDAR
