BEGIN:VCALENDAR
VERSION:2.0
PRODID:-//ChamberMaster//Event Calendar 2.0//EN
METHOD:PUBLISH
X-PUBLISHED-TTL:P3D
REFRESH-INTERVAL:P3D
CALSCALE:GREGORIAN
BEGIN:VEVENT
DTSTART:20190622T160000Z
DTEND:20190623T230000Z
X-MICROSOFT-CDO-ALLDAYEVENT:FALSE
SUMMARY:PNW Great Outdoor Expo
DESCRIPTION:PNW Great Outdoor Expo will be held on Jun 22nd-23rd\, 2019 in Ocean Shores\, WA. It will be held at Ocean Shores Convention Center and hosted by Big Top Promotions. All federal\, state and local firearm ordinances and laws must be obeyed.
X-ALT-DESC;FMTTYPE=text/html:<span style="background-color:rgb(255\, 255\, 255)\; color:rgb(128\, 128\, 128)\; font-family:lato\,sans-serif\; font-size:17.008px">PNW Great Outdoor Expo will be held on Jun 22nd-23rd\, 2019 in Ocean Shores\, WA. It will be held at Ocean Shores Convention Center and hosted by Big Top Promotions. All federal\, state and local firearm ordinances and laws must be obeyed.</span>
LOCATION:Ocean Shores Convention Center 120 W Chance A La Mer Ave Ocean Shores\, WA 98569
UID:e.26.11923
SEQUENCE:3
DTSTAMP:20260424T115217Z
URL:https://chamber.graysharbor.org/events/details/big-top-gun-show-11923
END:VEVENT

END:VCALENDAR
