BEGIN:VCALENDAR
VERSION:2.0
PRODID:-//ChamberMaster//Event Calendar 2.0//EN
METHOD:PUBLISH
X-PUBLISHED-TTL:P3D
REFRESH-INTERVAL:P3D
CALSCALE:GREGORIAN
BEGIN:VEVENT
DTSTART;VALUE=DATE:20171007
DTEND;VALUE=DATE:20171008
TRANSP:TRANSPARENT
X-MICROSOFT-CDO-ALLDAYEVENT:TRUE
SUMMARY:Bigfoot Brew Fest
DESCRIPTION:Craft Brewers\, Big Foot\, Food\, Live Music\, Fun!\n\n\n\nThis will be the 5th Annual BFBF\, you won't want to miss this yearly tradition that raises money for the Seabrook Community Foundation! 21+
X-ALT-DESC;FMTTYPE=text/html:<em><u>Craft Brewers\, Big Foot\, Food\, Live Music\, Fun!</u></em><br />\n<br />\nThis will be the 5th Annual BFBF\, you won&#39\;t want to miss this yearly tradition that raises money for the Seabrook Community Foundation! 21+
LOCATION:Seabrook Pacific Beach\, WA
UID:e.26.7634
SEQUENCE:3
DTSTAMP:20260425T195511Z
URL:https://chamber.graysharbor.org/events/details/bigfoot-brew-fest-7634
END:VEVENT

END:VCALENDAR
