BEGIN:VCALENDAR
VERSION:2.0
PRODID:-//ChamberMaster//Event Calendar 2.0//EN
METHOD:PUBLISH
X-PUBLISHED-TTL:P3D
REFRESH-INTERVAL:P3D
CALSCALE:GREGORIAN
BEGIN:VEVENT
DTSTART:20181006T190000Z
DTEND:20181007T000000Z
X-MICROSOFT-CDO-ALLDAYEVENT:FALSE
SUMMARY:Bigfoot Brew Fest
DESCRIPTION:BIG FOOT BREW FEST  |  OCTOBER 6  |  12-5PM |  21+  |  CRESCENT PARK  \n \n\n6th Annual Beer Festival on the Washington Coast benefiting The Seabrook Community Foundation!\n\n \n\nCraft Brewers\, Big Foot\, Food\, & Live Music!!
X-ALT-DESC;FMTTYPE=text/html:<div style="margin: 0px\; outline: none 0px\; padding: 0px\; color: rgb(57\, 79\, 90)\; font-family: Ubuntu\, arial\, sans-serif\; font-size: 14px\; background-color: rgb(246\, 247\, 247)\;">BIG FOOT BREW FEST &nbsp\;| &nbsp\;OCTOBER 6&nbsp\; | &nbsp\;12-5PM | &nbsp\;21+ &nbsp\;| &nbsp\;CRESCENT PARK &nbsp\;</div>\n&nbsp\;\n\n<div style="margin: 0px\; outline: none 0px\; padding: 0px\; color: rgb(57\, 79\, 90)\; font-family: Ubuntu\, arial\, sans-serif\; font-size: 14px\; background-color: rgb(246\, 247\, 247)\;">6th Annual Beer Festival on the Washington Coast benefiting&nbsp\;<a href="http://www.seabrookwa.com/seabrook-community-foundation/" style="margin: 0px\; outline: none\; padding: 0px\; color: rgb(215\, 149\, 30)\; text-decoration-line: none\; transition: all 0.25s ease-out\;">The Seabrook Community Foundation</a>!</div>\n\n<div style="margin: 0px\; outline: none 0px\; padding: 0px\; color: rgb(57\, 79\, 90)\; font-family: Ubuntu\, arial\, sans-serif\; font-size: 14px\; background-color: rgb(246\, 247\, 247)\;">&nbsp\;</div>\n\n<div style="margin: 0px\; outline: none 0px\; padding: 0px\; color: rgb(57\, 79\, 90)\; font-family: Ubuntu\, arial\, sans-serif\; font-size: 14px\; background-color: rgb(246\, 247\, 247)\;">Craft Brewers\, Big Foot\, Food\, &amp\; Live Music!!</div>\n
LOCATION:Seabrook Crescent Park
UID:e.26.9473
SEQUENCE:3
DTSTAMP:20260425T001932Z
URL:https://chamber.graysharbor.org/events/details/bigfoot-brew-fest-9473
END:VEVENT

END:VCALENDAR
