BEGIN:VCALENDAR
VERSION:2.0
PRODID:-//ChamberMaster//Event Calendar 2.0//EN
METHOD:PUBLISH
X-PUBLISHED-TTL:P3D
REFRESH-INTERVAL:P3D
CALSCALE:GREGORIAN
BEGIN:VEVENT
DTSTART:20240928T210000Z
DTEND:20240929T010000Z
X-MICROSOFT-CDO-ALLDAYEVENT:FALSE
SUMMARY:Bigfoot Brewfest
DESCRIPTION:The Bigfoot Brewfest is back and bigger than ever this September! As one of the Washington Coast's biggest beer festivals\, the festival held in the heart of Seabrook is full of great drinks\, food\, games\, tournaments\, and live music on Saturday\, September 28th from 2:00 PM to 6:00 PM.\n\n\n\nMake it one of the most memorable weekends of the season when you stay in one of Seabrook's year-round vacation rentals during the festival! Before and after brewfest\, get your fill of falltime fun in our award-winning beach town. Try everything from mountain biking\, exploring the beach\, catching unforgettable sunsets\, dining out\, shopping the town center for unique seasonal finds\, and all kinds of activities from guided experiences to playing games at the new arcade.
X-ALT-DESC;FMTTYPE=text/html:<span style="color:#000000\;"><span style="font-size:16px\;"><span style="font-family:arial\;"><span style="caret-color: rgb(84\, 102\, 108)\;">The Bigfoot Brewfest is back and bigger than ever this September!&nbsp\;As one of the Washington Coast&rsquo\;s biggest beer festivals\, the festival held in the heart of Seabrook is full of great drinks\, food\, games\, tournaments\, and live music on Saturday\, September 28th from 2:00 PM to 6:00 PM.</span></span></span></span><br />\n<br />\n<span style="font-size:16px\;"><span style="font-family:arial\;"><span style="color:#000000\;"><span style="caret-color: rgb(84\, 102\, 108)\;">Make it one of the most memorable weekends of the season when you stay in one of Seabrook&rsquo\;s year-round&nbsp\;</span></span><a href="https://www.seabrookwa.com/vacation-rentals/" style="box-sizing: inherit\; transition: all 0.2s ease-in-out\; color: rgb(132\, 161\, 177)\; text-decoration: none\; font-family: Jost\, sans-serif\; font-size: 18px\;"><span style="color:#000000\;">vacation rentals</span></a><span style="color:#000000\;"><span style="caret-color: rgb(84\, 102\, 108)\;">&nbsp\;during the festival! Before and after brewfest\, get your fill of&nbsp\;</span></span><a href="https://www.seabrookwa.com/blog/things-do/best-fall-things-to-do-washington-coast/" style="box-sizing: inherit\; transition: all 0.2s ease-in-out\; color: rgb(132\, 161\, 177)\; text-decoration: none\; font-family: Jost\, sans-serif\; font-size: 18px\;"><span style="color:#000000\;">falltime fun</span></a><span style="color:#000000\;"><span style="caret-color: rgb(84\, 102\, 108)\;">&nbsp\;in our award-winning beach town. Try everything from mountain biking\, exploring the beach\, catching unforgettable sunsets\,&nbsp\;</span></span><a href="https://www.seabrookwa.com/things-to-do/dining" style="box-sizing: inherit\; transition: all 0.2s ease-in-out\; color: rgb(132\, 161\, 177)\; text-decoration: none\; font-family: Jost\, sans-serif\; font-size: 18px\;"><span style="color:#000000\;">dining out</span></a><span style="color:#000000\;"><span style="caret-color: rgb(84\, 102\, 108)\;">\,&nbsp\;</span></span><a href="https://www.seabrookwa.com/things-to-do/shopping" style="box-sizing: inherit\; transition: all 0.2s ease-in-out\; color: rgb(132\, 161\, 177)\; text-decoration: none\; font-family: Jost\, sans-serif\; font-size: 18px\;"><span style="color:#000000\;">shopping the town center</span></a><span style="color:#000000\;"><span style="caret-color: rgb(84\, 102\, 108)\;">&nbsp\;for unique seasonal finds\, and all kinds of activities from guided experiences to playing games at the new arcade.</span></span></span></span>
LOCATION:Seabrook Washington
UID:e.26.14408
SEQUENCE:3
DTSTAMP:20260423T160931Z
URL:https://chamber.graysharbor.org/events/details/bigfoot-brewfest-14408
END:VEVENT

END:VCALENDAR
