BEGIN:VCALENDAR
VERSION:2.0
PRODID:-//ChamberMaster//Event Calendar 2.0//EN
METHOD:PUBLISH
X-PUBLISHED-TTL:P3D
REFRESH-INTERVAL:P3D
CALSCALE:GREGORIAN
BEGIN:VEVENT
DTSTART:20260201T000000Z
DTEND:20260201T040000Z
X-MICROSOFT-CDO-ALLDAYEVENT:FALSE
SUMMARY:Bigs Meetup
DESCRIPTION:Please come join Big Brothers Big Sisters. This gathering is open to current Bigs\, prospective mentors\, and community members who are curious about mentoring or just want to connect with others who care about supporting local youth. We'll have light appetizers and refreshments\, plus drink specials throughout the evening with proceeds benefiting Big Brothers Big Sisters. Stop by to mingle\, learn more about mentoring\, and support a great cause in the Grays Harbor community.
X-ALT-DESC;FMTTYPE=text/html:<span style="font-size:14px\;">Please come join Big Brothers Big Sisters. This gathering is open to current Bigs\, prospective mentors\, and community members who are curious about mentoring or just want to connect with others who care about supporting local youth. We&rsquo\;ll have light appetizers and refreshments\, plus drink specials throughout the evening with proceeds benefiting Big Brothers Big Sisters. Stop by to mingle\, learn more about mentoring\, and support a great cause in the Grays Harbor community.</span>
LOCATION:Messy Jessy's 212 S I St. Aberdeen\, WA
UID:e.26.16386
SEQUENCE:3
DTSTAMP:20260423T205102Z
URL:https://chamber.graysharbor.org/events/details/bigs-meetup-16386
END:VEVENT

END:VCALENDAR
