BEGIN:VCALENDAR
VERSION:2.0
PRODID:-//ChamberMaster//Event Calendar 2.0//EN
METHOD:PUBLISH
X-PUBLISHED-TTL:P3D
REFRESH-INTERVAL:P3D
CALSCALE:GREGORIAN
BEGIN:VEVENT
DTSTART:20190504T170000Z
DTEND:20190505T000000Z
X-MICROSOFT-CDO-ALLDAYEVENT:FALSE
SUMMARY:Bike Rodeo
DESCRIPTION:During the Outdoor Expo!\n\nBring a working helmet\, there will be helmets available for those in need.
X-ALT-DESC;FMTTYPE=text/html:During the Outdoor Expo!<br />\nBring a working helmet\, there will be helmets available for those in need.
LOCATION:Shoppes at Riverside
UID:e.26.11966
SEQUENCE:3
DTSTAMP:20260424T150525Z
URL:https://chamber.graysharbor.org/events/details/bike-rodeo-11966
END:VEVENT

END:VCALENDAR
