BEGIN:VCALENDAR
VERSION:2.0
PRODID:-//ChamberMaster//Event Calendar 2.0//EN
METHOD:PUBLISH
X-PUBLISHED-TTL:P3D
REFRESH-INTERVAL:P3D
CALSCALE:GREGORIAN
BEGIN:VEVENT
DTSTART;VALUE=DATE:20190726
DTEND;VALUE=DATE:20190729
TRANSP:TRANSPARENT
X-MICROSOFT-CDO-ALLDAYEVENT:TRUE
SUMMARY:Go Hog Wild in Ocean Shores
DESCRIPTION:Home of the biggest motorcycle run on the pacific coast!\n\nOcean Shores continues its heritage of being one of the best motorcycle destinations on the Washington Coast.\n\n\n\nThis annual rally raises funds for charities while providing food\, live music\, gaming specials\, VIP packages freebies and fun for riders and motorcycle enthusiasts.\n\n\n\nWhile you are here\, ride out on the beautiful roads on the scenic highways that are only found in Ocean Shores and the North Beach.
X-ALT-DESC;FMTTYPE=text/html:<span style="font-size:14px\;"><span style="font-family:arial\;"><span style="background-color: rgb(255\, 255\, 255)\; color: rgb(29\, 33\, 41)\;">Home of the biggest motorcycle run on the pacific coast!</span><br />\n<span style="background-color: rgb(255\, 255\, 255)\; color: rgb(29\, 33\, 41)\;">Ocean Shores continues its heritage of being one of the best motorcycle destinations on the Washington Coast.</span><br />\n<br />\n<span style="background-color: rgb(255\, 255\, 255)\;"><font color="#1d2129">This annual rally raises funds for charities while providing food\, live&nbsp\;music\, gaming specials\, VIP packages freebies and fun for riders and motorcycle enthusiasts.</font></span><br />\n<br />\n<span style="background-color: rgb(255\, 255\, 255)\; color: rgb(29\, 33\, 41)\;">While you are here\, ride out on the beautiful roads on the scenic highways that are only found in Ocean Shores and the North Beach.</span></span></span>
LOCATION:Ocean Shores Convention Center 120 W Chance A La Mer Ave Ocean Shores\, WA 98569 Quinault Beach Resort and Casino 78 WA-115 Ocean Shores
UID:e.26.11925
SEQUENCE:3
DTSTAMP:20260424T104426Z
URL:https://chamber.graysharbor.org/events/details/bikers-at-the-beach-07-26-2019-11925
END:VEVENT

END:VCALENDAR
