BEGIN:VCALENDAR
VERSION:2.0
PRODID:-//ChamberMaster//Event Calendar 2.0//EN
METHOD:PUBLISH
X-PUBLISHED-TTL:P3D
REFRESH-INTERVAL:P3D
CALSCALE:GREGORIAN
BEGIN:VEVENT
DTSTART;VALUE=DATE:20170728
DTEND;VALUE=DATE:20170731
TRANSP:TRANSPARENT
X-MICROSOFT-CDO-ALLDAYEVENT:TRUE
SUMMARY:Bikers at the Beach
DESCRIPTION:Over 2000 motorcycles arrive in Ocean Shores for dancing\, a parade and a whole lot of fun!\n\n	Friday and Saturday Night Biker Party!\n	Large Vendor Area\n	Outdoor Food COurt\n	Biker Games\n	Beer Garden\n	Ocean Shores to Westport Poker Run\n	and much more!
X-ALT-DESC;FMTTYPE=text/html:Over 2000 motorcycles arrive in Ocean Shores for dancing\, a parade and a whole lot of fun!\n<ul>\n	<li>Friday and Saturday Night Biker Party!</li>\n	<li>Large Vendor Area</li>\n	<li>Outdoor Food COurt</li>\n	<li>Biker Games</li>\n	<li>Beer Garden</li>\n	<li>Ocean Shores to Westport Poker Run</li>\n	<li>and much more!</li>\n</ul>\n
LOCATION:Ocean Shores\, WA
UID:e.26.7599
SEQUENCE:3
DTSTAMP:20260426T003003Z
URL:https://chamber.graysharbor.org/events/details/bikers-at-the-beach-7599
END:VEVENT

END:VCALENDAR
