BEGIN:VCALENDAR
VERSION:2.0
PRODID:-//ChamberMaster//Event Calendar 2.0//EN
METHOD:PUBLISH
X-PUBLISHED-TTL:P3D
REFRESH-INTERVAL:P3D
CALSCALE:GREGORIAN
BEGIN:VEVENT
DTSTART:20180311T033000Z
DTEND:20180311T063000Z
X-MICROSOFT-CDO-ALLDAYEVENT:FALSE
SUMMARY:Billy Elliot: The Musical
DESCRIPTION:Set in a northern English mining town against the background of the 1984 miners' strike\, Billy Elliot is the inspirational story of a young boy's struggle against the odds to make his dream come true. Follow Billy's journey as he stumbles out of the boxing ring and into a ballet class\, where he discovers a passion for dance that inspires his family and community... and changes his life forever. Based on the international smash-hit film\, and featuring a score by music legend Elton John\, Billy Elliot is an astonishing theatrical experience that will stay with you forever.
X-ALT-DESC;FMTTYPE=text/html:Set in a northern English mining town against the background of the 1984 miners&#39\; strike\, Billy Elliot is the inspirational story of a young boy&#39\;s struggle against the odds to make his dream come true. Follow Billy&#39\;s journey as he stumbles out of the boxing ring and into a ballet class\, where he discovers a passion for dance that inspires his family and community... and changes his life forever. Based on the international smash-hit film\, and featuring a score by music legend Elton John\, Billy Elliot is an astonishing theatrical experience that will stay with you forever.
LOCATION:Bishop Center for Performing Arts 1620 Edward P. Smith Drive Aberdeen\, WA 98520
UID:e.26.9502
SEQUENCE:3
DTSTAMP:20260425T115357Z
URL:https://chamber.graysharbor.org/events/details/billy-elliot-the-musical-03-10-2018-9502
END:VEVENT

END:VCALENDAR
