BEGIN:VCALENDAR
VERSION:2.0
PRODID:-//ChamberMaster//Event Calendar 2.0//EN
METHOD:PUBLISH
X-PUBLISHED-TTL:P3D
REFRESH-INTERVAL:P3D
CALSCALE:GREGORIAN
BEGIN:VEVENT
DTSTART:20190118T020000Z
DTEND:20190118T040000Z
X-MICROSOFT-CDO-ALLDAYEVENT:FALSE
SUMMARY:Bingo at the Beach
DESCRIPTION:Seabrook's Town Hall will turn into Seabrook's Bingo Hall on Thursdays throughout January and February.\n\n\n\nFor the Love of Bingo\, join us for an evening of entertaining relaxation\, easy conversations\, and the opportunity to win Seabrook SWAG\, logo wear\, drink tickets\, and more.\n\n\n\nLike the ocean\, there's something soothing in the rhythms and cadences of playing bingo. You're chatting with friends. You hear a number called. You quickly look down at your card to see if you got it. You mark the number. You go back to talking. Bingo is the perfect beach time activity.\n\n\n\nIn addition to playing bingo\, guests will be treated to a no host bar and giant games. \n\n\n\nThis event is FREE and open to the public. Limited to the first 100 players. See you there!
X-ALT-DESC;FMTTYPE=text/html:<span style="caret-color: rgb(29\, 33\, 41)\; color: rgb(29\, 33\, 41)\; font-family: system-ui\, -apple-system\, BlinkMacSystemFont\, &quot\;.SFNSText-Regular&quot\;\, sans-serif\; font-size: 14px\; white-space: pre-wrap\; background-color: rgb(255\, 255\, 255)\;">Seabrook&#39\;s Town Hall will turn into Seabrook&#39\;s Bingo Hall on Thursdays throughout January and February.</span><br style="caret-color: rgb(29\, 33\, 41)\; color: rgb(29\, 33\, 41)\; font-family: system-ui\, -apple-system\, BlinkMacSystemFont\, &quot\;.SFNSText-Regular&quot\;\, sans-serif\; font-size: 14px\; white-space: pre-wrap\;" />\n<br style="caret-color: rgb(29\, 33\, 41)\; color: rgb(29\, 33\, 41)\; font-family: system-ui\, -apple-system\, BlinkMacSystemFont\, &quot\;.SFNSText-Regular&quot\;\, sans-serif\; font-size: 14px\; white-space: pre-wrap\;" />\n<span style="caret-color: rgb(29\, 33\, 41)\; color: rgb(29\, 33\, 41)\; font-family: system-ui\, -apple-system\, BlinkMacSystemFont\, &quot\;.SFNSText-Regular&quot\;\, sans-serif\; font-size: 14px\; white-space: pre-wrap\; background-color: rgb(255\, 255\, 255)\;">For the Love of Bingo\, join us for an evening of entertaining relaxation\, easy conversations\, and the opportunity to win Seabrook SWAG\, logo wear\, drink tickets\, and more.</span><br style="caret-color: rgb(29\, 33\, 41)\; color: rgb(29\, 33\, 41)\; font-family: system-ui\, -apple-system\, BlinkMacSystemFont\, &quot\;.SFNSText-Regular&quot\;\, sans-serif\; font-size: 14px\; white-space: pre-wrap\;" />\n<br style="caret-color: rgb(29\, 33\, 41)\; color: rgb(29\, 33\, 41)\; font-family: system-ui\, -apple-system\, BlinkMacSystemFont\, &quot\;.SFNSText-Regular&quot\;\, sans-serif\; font-size: 14px\; white-space: pre-wrap\;" />\n<span style="caret-color: rgb(29\, 33\, 41)\; color: rgb(29\, 33\, 41)\; font-family: system-ui\, -apple-system\, BlinkMacSystemFont\, &quot\;.SFNSText-Regular&quot\;\, sans-serif\; font-size: 14px\; white-space: pre-wrap\; background-color: rgb(255\, 255\, 255)\;">Like the ocean\, there&#39\;s something soothing in the rhythms and cadences of playing bingo. You&#39\;re chatting with friends. You hear a number called. You quickly look down at your card to see if you got it. You mark the number. You go back to talking. Bingo is the perfect beach time activity.</span><br style="caret-color: rgb(29\, 33\, 41)\; color: rgb(29\, 33\, 41)\; font-family: system-ui\, -apple-system\, BlinkMacSystemFont\, &quot\;.SFNSText-Regular&quot\;\, sans-serif\; font-size: 14px\; white-space: pre-wrap\;" />\n<br style="caret-color: rgb(29\, 33\, 41)\; color: rgb(29\, 33\, 41)\; font-family: system-ui\, -apple-system\, BlinkMacSystemFont\, &quot\;.SFNSText-Regular&quot\;\, sans-serif\; font-size: 14px\; white-space: pre-wrap\;" />\n<span style="caret-color: rgb(29\, 33\, 41)\; color: rgb(29\, 33\, 41)\; font-family: system-ui\, -apple-system\, BlinkMacSystemFont\, &quot\;.SFNSText-Regular&quot\;\, sans-serif\; font-size: 14px\; white-space: pre-wrap\; background-color: rgb(255\, 255\, 255)\;">In addition to playing bingo\, guests will be treated to a no host bar and giant games. </span><br style="caret-color: rgb(29\, 33\, 41)\; color: rgb(29\, 33\, 41)\; font-family: system-ui\, -apple-system\, BlinkMacSystemFont\, &quot\;.SFNSText-Regular&quot\;\, sans-serif\; font-size: 14px\; white-space: pre-wrap\;" />\n<br style="caret-color: rgb(29\, 33\, 41)\; color: rgb(29\, 33\, 41)\; font-family: system-ui\, -apple-system\, BlinkMacSystemFont\, &quot\;.SFNSText-Regular&quot\;\, sans-serif\; font-size: 14px\; white-space: pre-wrap\;" />\n<span style="caret-color: rgb(29\, 33\, 41)\; color: rgb(29\, 33\, 41)\; font-family: system-ui\, -apple-system\, BlinkMacSystemFont\, &quot\;.SFNSText-Regular&quot\;\, sans-serif\; font-size: 14px\; white-space: pre-wrap\; background-color: rgb(255\, 255\, 255)\;">This event is FREE and open to the public. Limited to the first 100 players. See you there!</span>
LOCATION:Seabrook Pacific Beach\, WA
UID:e.26.11613
SEQUENCE:3
DTSTAMP:20260424T194442Z
URL:https://chamber.graysharbor.org/events/details/bingo-at-the-beach-01-17-2019-11613
END:VEVENT

END:VCALENDAR
