BEGIN:VCALENDAR
VERSION:2.0
PRODID:-//ChamberMaster//Event Calendar 2.0//EN
METHOD:PUBLISH
X-PUBLISHED-TTL:P3D
REFRESH-INTERVAL:P3D
CALSCALE:GREGORIAN
BEGIN:VEVENT
DTSTART:20200502T010000Z
DTEND:20200502T030000Z
X-MICROSOFT-CDO-ALLDAYEVENT:FALSE
SUMMARY:Bingo Night with the Dispute Resolution Center
DESCRIPTION:We've got some fun\, family-friendly Friday plans just for you! From the comfort of your home\, join the Dispute Resolution Center of Grays Harbor & Pacific Counties tomorrow evening for bingo night live on Zoom!\n\n\n\nPrizes from local small businesses will be given away to the bingo winners. The event is free but registration is required. Follow this link to register: docs.google.com/forms/d/e/1FAIpQLSfZ6eed6Df8eIDrVro685zs0owH0Fx4GiJitDNpTAR6gDsmaw/viewform\n\n\n\nEmail the DRC with any questions at drcghp@drcghp.org.
X-ALT-DESC;FMTTYPE=text/html:<span style="caret-color: rgb(28\, 30\, 33)\; color: rgb(28\, 30\, 33)\; font-family: system-ui\, -apple-system\, BlinkMacSystemFont\, &quot\;.SFNSText-Regular&quot\;\, sans-serif\; font-size: 14px\;">We&#39\;ve got some fun\, family-friendly Friday plans just for you! From the comfort of your home\, join the&nbsp\;</span><a data-hovercard="/ajax/hovercard/page.php?id=305178452998310&amp\;extragetparams=%7B%22__tn__%22%3A%22%2CdK%2AF-R%22%2C%22eid%22%3A%22ARBWkS1WOrf8B38baWPAiMpsaiYimgX5PO6HaGGoxsjoAcDapcg1o-JJ0mIKiMQUZNDQU1IjjhxjgdlJ%22%2C%22directed_target_id%22%3Anull%2C%22groups_location%22%3Anull%7D" data-hovercard-prefer-more-content-show="1" href="https://www.facebook.com/DRCGHP/?__tn__=%2CdK%2AF-R&amp\;eid=ARBWkS1WOrf8B38baWPAiMpsaiYimgX5PO6HaGGoxsjoAcDapcg1o-JJ0mIKiMQUZNDQU1IjjhxjgdlJ" style="color: rgb(56\, 88\, 152)\; cursor: pointer\; text-decoration: none\; font-family: system-ui\, -apple-system\, BlinkMacSystemFont\, &quot\;.SFNSText-Regular&quot\;\, sans-serif\; font-size: 14px\;">Dispute Resolution Center of Grays Harbor &amp\; Pacific Counties</a><span style="caret-color: rgb(28\, 30\, 33)\; color: rgb(28\, 30\, 33)\; font-family: system-ui\, -apple-system\, BlinkMacSystemFont\, &quot\;.SFNSText-Regular&quot\;\, sans-serif\; font-size: 14px\;">&nbsp\;tomorrow evening for bingo night live on Zoom!</span><br style="caret-color: rgb(28\, 30\, 33)\; color: rgb(28\, 30\, 33)\; font-family: system-ui\, -apple-system\, BlinkMacSystemFont\, &quot\;.SFNSText-Regular&quot\;\, sans-serif\; font-size: 14px\;" />\n<br style="caret-color: rgb(28\, 30\, 33)\; color: rgb(28\, 30\, 33)\; font-family: system-ui\, -apple-system\, BlinkMacSystemFont\, &quot\;.SFNSText-Regular&quot\;\, sans-serif\; font-size: 14px\;" />\n<span style="caret-color: rgb(28\, 30\, 33)\; color: rgb(28\, 30\, 33)\; font-family: system-ui\, -apple-system\, BlinkMacSystemFont\, &quot\;.SFNSText-Regular&quot\;\, sans-serif\; font-size: 14px\;">Prizes from local small businesses will be given away to the bingo winners. The event is free but registration is required. Follow this link to register:&nbsp\;</span><a data-lynx-mode="origin" data-lynx-uri="https://l.facebook.com/l.php?u=https%3A%2F%2Fdocs.google.com%2Fforms%2Fd%2Fe%2F1FAIpQLSfZ6eed6Df8eIDrVro685zs0owH0Fx4GiJitDNpTAR6gDsmaw%2Fviewform%3Ffbclid%3DIwAR2hUSliFiEoawOk2BZ3ig-bzd_HddasGziDTyGdCYFyaCS7Tpq7KVj_2Ik&amp\;h=AT2nopveoE32zvadKlc2ltsPEcjfaldlQqqsh4yewLoFFM9mWJYsE4twUj2D7wjecKAufbhLUQrZIBPpeL-VYuQH-_xsDLDXrl6QTD5caQFcm6QlTv-ptHmx5roK3T1XhJl7EyoRgeqdC5o" href="https://docs.google.com/forms/d/e/1FAIpQLSfZ6eed6Df8eIDrVro685zs0owH0Fx4GiJitDNpTAR6gDsmaw/viewform?fbclid=IwAR2hUSliFiEoawOk2BZ3ig-bzd_HddasGziDTyGdCYFyaCS7Tpq7KVj_2Ik" rel="nofollow noopener" style="color: rgb(56\, 88\, 152)\; cursor: pointer\; text-decoration: none\; font-family: system-ui\, -apple-system\, BlinkMacSystemFont\, &quot\;.SFNSText-Regular&quot\;\, sans-serif\; font-size: 14px\;" target="_blank"><span style="font-family: inherit\;">docs.google.com/forms/d/e/</span><wbr /><span style="font-family: inherit\;">1FAIpQLSfZ6eed6Df8eIDrVro68</span><wbr /><span style="font-family: inherit\;">5zs0owH0Fx4GiJitDNpTAR6gDs</span><wbr />maw/viewform</a><br style="caret-color: rgb(28\, 30\, 33)\; color: rgb(28\, 30\, 33)\; font-family: system-ui\, -apple-system\, BlinkMacSystemFont\, &quot\;.SFNSText-Regular&quot\;\, sans-serif\; font-size: 14px\;" />\n<br style="caret-color: rgb(28\, 30\, 33)\; color: rgb(28\, 30\, 33)\; font-family: system-ui\, -apple-system\, BlinkMacSystemFont\, &quot\;.SFNSText-Regular&quot\;\, sans-serif\; font-size: 14px\;" />\n<span style="caret-color: rgb(28\, 30\, 33)\; color: rgb(28\, 30\, 33)\; font-family: system-ui\, -apple-system\, BlinkMacSystemFont\, &quot\;.SFNSText-Regular&quot\;\, sans-serif\; font-size: 14px\;">Email the DRC with any questions at drcghp@drcghp.org.</span>
LOCATION:Zoom meeting
UID:e.26.12465
SEQUENCE:3
DTSTAMP:20260424T104431Z
URL:https://chamber.graysharbor.org/events/details/bingo-night-with-the-dispute-resolution-center-12465
END:VEVENT

END:VCALENDAR
