BEGIN:VCALENDAR
VERSION:2.0
PRODID:-//ChamberMaster//Event Calendar 2.0//EN
METHOD:PUBLISH
X-PUBLISHED-TTL:P3D
REFRESH-INTERVAL:P3D
CALSCALE:GREGORIAN
BEGIN:VEVENT
DTSTART:20190127T020000Z
DTEND:20190127T040000Z
X-MICROSOFT-CDO-ALLDAYEVENT:FALSE
SUMMARY:Black & White Gala
DESCRIPTION:The United Way Black & White Gala is an incredible evening\, where we come together and show those living right here in our own backyard that we care! This year we are celebrating 20 years & we'd be honored if you'd join us. The evening includes a fabulous 5 course plated dinner\, tons of friends and lots of fun & games! Register early\, seats will go fast!
X-ALT-DESC;FMTTYPE=text/html:<p dir="ltr" style="line-height: 1.3800000000000001\; margin-top: 0pt\; margin-bottom: 0pt\;"><span id="docs-internal-guid-a46b6402-7fff-587d-44ea-a162934b706e"><span style="font-size: 11.5pt\; font-family: Arial\; color: rgb(94\, 94\, 94)\; background-color: rgb(255\, 255\, 255)\; font-variant-ligatures: normal\; font-variant-east-asian: normal\; font-variant-position: normal\; vertical-align: baseline\; white-space: pre-wrap\;">The United Way Black &amp\; White Gala is an incredible evening\, where we come together and show those living right here in our own backyard that we care! This year we are celebrating 20 years &amp\; we&#39\;d be honored if you&#39\;d join us. The evening includes a fabulous 5 course plated dinner\, tons of friends and lots of fun &amp\; games! Register early\, seats will go fast!</span></span></p>\n
LOCATION:Quinault Beach Resort and Caisno Ocean Shores\, WA
UID:e.26.11307
SEQUENCE:3
DTSTAMP:20260424T194150Z
URL:https://chamber.graysharbor.org/events/details/black-white-gala-11307
END:VEVENT

END:VCALENDAR
