BEGIN:VCALENDAR
VERSION:2.0
PRODID:-//ChamberMaster//Event Calendar 2.0//EN
METHOD:PUBLISH
X-PUBLISHED-TTL:P3D
REFRESH-INTERVAL:P3D
CALSCALE:GREGORIAN
BEGIN:VEVENT
DTSTART;VALUE=DATE:20190526
DTEND;VALUE=DATE:20190527
TRANSP:TRANSPARENT
X-MICROSOFT-CDO-ALLDAYEVENT:TRUE
SUMMARY:Blessing of the Fleet
DESCRIPTION:Please join us in remembering those lost at sea and bless the fleet for a safe and bountiful harvest. Sunday 1:00 p.m. at the Fishermen's Memorial. Sponsored by the South Beach Ministerial Assoc. and WEfish.
X-ALT-DESC;FMTTYPE=text/html:<span style="font-size: 16px\; caret-color: rgb(0\, 51\, 102)\; font-family: arial\; background-color: rgb(234\, 223\, 191)\;">Please join us in remembering those lost at sea and bless the fleet for a safe and bountiful harvest. Sunday 1:00 p.m. at the Fishermen&#39\;s Memorial. Sponsored by the South Beach Ministerial Assoc. and WEfish.</span>
LOCATION:Westport\, WA
UID:e.26.11768
SEQUENCE:3
DTSTAMP:20260424T150717Z
URL:https://chamber.graysharbor.org/events/details/blessing-of-the-fleet-11768
END:VEVENT

END:VCALENDAR
