BEGIN:VCALENDAR
VERSION:2.0
PRODID:-//ChamberMaster//Event Calendar 2.0//EN
METHOD:PUBLISH
X-PUBLISHED-TTL:P3D
REFRESH-INTERVAL:P3D
CALSCALE:GREGORIAN
BEGIN:VEVENT
DTSTART:20191213T180000Z
DTEND:20191214T000000Z
X-MICROSOFT-CDO-ALLDAYEVENT:FALSE
SUMMARY:Blood Drive at Summit Pacific!
DESCRIPTION:We're hosting a blood drive!\n\n\n\nBloodworks Northwest will be on site with their Bloodmobile accepting whole blood donations from 10 a.m. to 4 p.m. with a break from 12- 1 p.m. The Bloodmobile will be located outside of the main patient entrance in the SPMC parking lot. \n\n\n\nSign up online at www.bloodworksnw.org/drives or call 1-800-398-7888 and reference sponsor code 5480.
X-ALT-DESC;FMTTYPE=text/html:<span style="caret-color: rgb(29\, 33\, 41)\; color: rgb(29\, 33\, 41)\; font-family: system-ui\, -apple-system\, BlinkMacSystemFont\, &quot\;.SFNSText-Regular&quot\;\, sans-serif\; font-size: 14px\; white-space: pre-wrap\;">We&#39\;re hosting a blood drive!</span><br style="caret-color: rgb(29\, 33\, 41)\; color: rgb(29\, 33\, 41)\; font-family: system-ui\, -apple-system\, BlinkMacSystemFont\, &quot\;.SFNSText-Regular&quot\;\, sans-serif\; font-size: 14px\; white-space: pre-wrap\;" />\n<br style="caret-color: rgb(29\, 33\, 41)\; color: rgb(29\, 33\, 41)\; font-family: system-ui\, -apple-system\, BlinkMacSystemFont\, &quot\;.SFNSText-Regular&quot\;\, sans-serif\; font-size: 14px\; white-space: pre-wrap\;" />\n<span style="caret-color: rgb(29\, 33\, 41)\; color: rgb(29\, 33\, 41)\; font-family: system-ui\, -apple-system\, BlinkMacSystemFont\, &quot\;.SFNSText-Regular&quot\;\, sans-serif\; font-size: 14px\; white-space: pre-wrap\;">Bloodworks Northwest will be on site with their Bloodmobile accepting whole blood donations from 10 a.m. to 4 p.m. with a break from 12- 1 p.m. The Bloodmobile will be located outside of the main patient entrance in the SPMC parking lot. </span><br style="caret-color: rgb(29\, 33\, 41)\; color: rgb(29\, 33\, 41)\; font-family: system-ui\, -apple-system\, BlinkMacSystemFont\, &quot\;.SFNSText-Regular&quot\;\, sans-serif\; font-size: 14px\; white-space: pre-wrap\;" />\n<br style="caret-color: rgb(29\, 33\, 41)\; color: rgb(29\, 33\, 41)\; font-family: system-ui\, -apple-system\, BlinkMacSystemFont\, &quot\;.SFNSText-Regular&quot\;\, sans-serif\; font-size: 14px\; white-space: pre-wrap\;" />\n<span style="caret-color: rgb(29\, 33\, 41)\; color: rgb(29\, 33\, 41)\; font-family: system-ui\, -apple-system\, BlinkMacSystemFont\, &quot\;.SFNSText-Regular&quot\;\, sans-serif\; font-size: 14px\; white-space: pre-wrap\;">Sign up online at </span><a data-lynx-mode="hover" data-lynx-uri="https://l.facebook.com/l.php?u=http%3A%2F%2Fwww.bloodworksnw.org%2Fdrives%3Ffbclid%3DIwAR1FtDTeG7UjtZFs8bmAKQrr9K3ZV3NqLj8a-8XCWd8r-XGsMHUTCECQEG0&amp\;h=AT09o0w7l-dVVoeeldLEm_ci1mEeKlb8aXwUxRbGYmUYsbGOQI85ndWZdhf_tBG2-0suQJW6wMDQH8FElOLzOGjMqN3SRyOH9mKCdAzk8lGv7nupiuh1xDfoGgCosRkzwP5EQsS3yA" href="http://www.bloodworksnw.org/drives?fbclid=IwAR1FtDTeG7UjtZFs8bmAKQrr9K3ZV3NqLj8a-8XCWd8r-XGsMHUTCECQEG0" rel="nofollow noopener" style="color: rgb(56\, 88\, 152)\; cursor: pointer\; text-decoration: none\; font-family: system-ui\, -apple-system\, BlinkMacSystemFont\, &quot\;.SFNSText-Regular&quot\;\, sans-serif\; font-size: 14px\; white-space: pre-wrap\;" target="_blank">www.bloodworksnw.org/drives</a><span style="caret-color: rgb(29\, 33\, 41)\; color: rgb(29\, 33\, 41)\; font-family: system-ui\, -apple-system\, BlinkMacSystemFont\, &quot\;.SFNSText-Regular&quot\;\, sans-serif\; font-size: 14px\; white-space: pre-wrap\;"> or call 1-800-398-7888 and reference sponsor code 5480.</span>
LOCATION:pin Summit Pacific Medical Center 600 E. Main St.\, Elma\, Washington 98541
UID:e.26.12032
SEQUENCE:3
DTSTAMP:20260424T000208Z
URL:https://chamber.graysharbor.org/events/details/blood-drive-at-summit-pacific-12032
END:VEVENT

END:VCALENDAR
