BEGIN:VCALENDAR
VERSION:2.0
PRODID:-//ChamberMaster//Event Calendar 2.0//EN
METHOD:PUBLISH
X-PUBLISHED-TTL:P3D
REFRESH-INTERVAL:P3D
CALSCALE:GREGORIAN
BEGIN:VEVENT
DTSTART:20170523T170000Z
DTEND:20170523T230000Z
X-MICROSOFT-CDO-ALLDAYEVENT:FALSE
SUMMARY:Blood Drive at Summit Pacific
DESCRIPTION:We're hosting a blood drive!\n\n\n\nBloodworks Northwest will be on site with their Bloodmobile accepting whole blood donations from 10 a.m. to 4 p.m. with a break from 12- 1 p.m. The Bloodmobile will be located outside of the main patient entrance in the SPMC parking lot.\n\n\n\nSign up online at www.bloodworksnw.org/drives or call 1-800-398-788 and reference Sponsor Code: 5480.\n\n\n\nBloodworks Northwest will be back at SPMC on July 25\, 2017.
X-ALT-DESC;FMTTYPE=text/html:<span class="_4n-j _fbReactionComponent__eventDetailsContentTags fsl" data-testid="event-permalink-details">We&#39\;re hosting a blood drive!<br />\n<br />\n<a data-hovercard="/ajax/hovercard/page.php?id=93013381681&amp\;extragetparams=%7B%22directed_target_id%22%3A1767252576921131%7D" data-hovercard-obj-id="93013381681" data-hovercard-prefer-more-content-show="1" href="https://www.facebook.com/BloodworksNW/"><font color="#0066cc">Bloodworks Northwest</font></a> will be on site with their Bloodmobile accepting whole blood donations from 10 a.m. to 4 p.m. with a break from 12- 1 p.m. The Bloodmobile will be located outside of the main patient entrance in the SPMC parking lot.<br />\n<br />\nSign up online at <a href="http://www.bloodworksnw.org/drives" rel="nofollow nofollow" target="_blank"><font color="#0066cc"><span>www.bloodworksnw.org/</span><wbr /></font><font color="#0066cc">drives</font></a> or call 1-800-398-788 and reference Sponsor Code: 5480.<br />\n<br />\n<a data-hovercard="/ajax/hovercard/page.php?id=93013381681&amp\;extragetparams=%7B%22directed_target_id%22%3A1767252576921131%7D" data-hovercard-obj-id="93013381681" data-hovercard-prefer-more-content-show="1" href="https://www.facebook.com/BloodworksNW/"><font color="#0066cc">Bloodworks Northwest</font></a> will be back at SPMC on July 25\, 2017.</span>
LOCATION:Bloodmobile will be located outside of the main patient entrance in the Summit Pacific Medical Center parking lot
UID:e.26.7702
SEQUENCE:3
DTSTAMP:20260426T032735Z
URL:https://chamber.graysharbor.org/events/details/blood-drive-at-summit-pacific-7702
END:VEVENT

END:VCALENDAR
