BEGIN:VCALENDAR
VERSION:2.0
PRODID:-//ChamberMaster//Event Calendar 2.0//EN
METHOD:PUBLISH
X-PUBLISHED-TTL:P3D
REFRESH-INTERVAL:P3D
CALSCALE:GREGORIAN
BEGIN:VEVENT
DTSTART:20190717T010000Z
DTEND:20190717T020000Z
X-MICROSOFT-CDO-ALLDAYEVENT:FALSE
SUMMARY:Blue Zones Presentation
DESCRIPTION:Summit Pacific Wellness Center in Elma invites you to a community presentation on Blue Zones.\n\n\n\nWe invite and urge you to attend this exciting presentation by Blue Zones \, Nick Buettner\, to learn how communities across the U.S. are significantly improving health and lowering healthcare costs through the Blue Zones Project . Blue Zones  has been recognized by National Geographic\, The New York Times\, TED Talks\, and Newsweek for putting the world's best practices in longevity and well-being to work in people's lives.\n\n	Sponsored by Summit Pacific in partnership with Grays Harbor County Commissioners\, Greater Grays Harbor\, and United Healthcare.\n	Presented by Nick Buettner\, Vice President of Blue Zones
X-ALT-DESC;FMTTYPE=text/html:<span style="font-size:14px\;">Summit Pacific Wellness Center in Elma invites you to&nbsp\;a community presentation on&nbsp\;<strong>Blue Zones.</strong><br />\n<br />\nWe invite and urge you to attend this exciting presentation by&nbsp\;Blue Zones&reg\;\, <span style="caret-color: rgb(34\, 34\, 34)\; color: rgb(34\, 34\, 34)\; font-family: Arial\, Helvetica\, sans-serif\;">Nick Buettner</span>\, to learn how communities across&nbsp\;the U.S. are significantly improving health and lowering&nbsp\;healthcare costs through the Blue Zones Project&reg\;.&nbsp\;Blue Zones&reg\; has been recognized by National Geographic\,&nbsp\;The New York Times\, TED Talks\, and Newsweek for&nbsp\;putting the world&rsquo\;s best practices in longevity and&nbsp\;well-being to work in people&rsquo\;s lives.</span>\n<ul>\n	<li style="font-size:11pt\;font-family:Calibri\, sans-serif\;color:rgb(31\, 56\, 100)\;">Sponsored by Summit Pacific in partnership with Grays Harbor County Commissioners\, Greater Grays Harbor\, and United Healthcare.</li>\n	<li style="font-size:11pt\;font-family:Calibri\, sans-serif\;color:rgb(31\, 56\, 100)\;">Presented by Nick Buettner\, Vice President of Blue Zones</li>\n</ul>\n
LOCATION:Summit Pacific Medical Center Ortquist Conference Room 600 E Main St. Elma\, WA
UID:e.26.12028
SEQUENCE:3
DTSTAMP:20260424T104018Z
URL:https://chamber.graysharbor.org/events/details/blue-zones-presentation-12028
END:VEVENT

END:VCALENDAR
