BEGIN:VCALENDAR
VERSION:2.0
PRODID:-//ChamberMaster//Event Calendar 2.0//EN
METHOD:PUBLISH
X-PUBLISHED-TTL:P3D
REFRESH-INTERVAL:P3D
CALSCALE:GREGORIAN
BEGIN:VEVENT
DTSTART:20190402T160000Z
DTEND:20190402T200000Z
X-MICROSOFT-CDO-ALLDAYEVENT:FALSE
SUMMARY:Boards in Gear - Non-profit Workshop
DESCRIPTION:Boards play an important role in the success of any organization. They move forward an organization's mission\, and they steward the assets and relationships of that organization to keep it out of harm. Strengthening the practice of nonprofit boards within a community will lead to more effective and sustainable results as that community addresses poverty\, education\, the environment and other critical issues.\n\nThis interactive\, hands-on workshop will cover board responsibilities\, operations\, development\, fundraising\, and advocacy. It is based on the Boards in Gear resources developed in partnership with some of our state's leading board experts. You will leave with concrete action steps\, tools\, and connections.Strengthening the practice of nonprofit boards within a community will lead to more effective and sustainable results as that community addresses poverty\, education\, the environment and other critical issues.\n\nWHO SHOULD ATTEND: This workshop is designed for nonprofit board members and the people who work with them\, namely executive directors and program staff. It offers ideas for new board members and those who have served for a long time. It is appropriate for organizations of all sizes\, whether they have staff or not.
X-ALT-DESC;FMTTYPE=text/html:<p class="firstp" style="line-height: 1.4em\; margin: 1em 0px\; caret-color: rgb(38\, 38\, 38)\; color: rgb(38\, 38\, 38)\; font-family: &quot\;Source Sans Pro&quot\;\, sans-serif\; font-size: 12px\;">Boards play an important role in the success of any organization. They move forward an organization&#39\;s mission\, and they steward the assets and relationships of that organization to keep it out of harm. Strengthening the practice of nonprofit boards within a community will lead to more effective and sustainable results as that community addresses poverty\, education\, the environment and other critical issues.</p>\n\n<p class="middlep" style="line-height: 1.4em\; margin: 1em 0px\; caret-color: rgb(38\, 38\, 38)\; color: rgb(38\, 38\, 38)\; font-family: &quot\;Source Sans Pro&quot\;\, sans-serif\; font-size: 12px\;">This interactive\, hands-on workshop will cover board responsibilities\, operations\, development\, fundraising\, and advocacy. It is based on the Boards in Gear resources developed in partnership with some of our state&#39\;s leading board experts. You will leave with concrete action steps\, tools\, and connections.Strengthening the practice of nonprofit boards within a community will lead to more effective and sustainable results as that community addresses poverty\, education\, the environment and other critical issues.</p>\n\n<p class="lastp" style="line-height: 1.4em\; margin: 1em 0px\; caret-color: rgb(38\, 38\, 38)\; color: rgb(38\, 38\, 38)\; font-family: &quot\;Source Sans Pro&quot\;\, sans-serif\; font-size: 12px\;">WHO SHOULD ATTEND: This workshop is designed for nonprofit board members and the people who work with them\, namely executive directors and program staff. It offers ideas for new board members and those who have served for a long time. It is appropriate for organizations of all sizes\, whether they have staff or not.</p>\n
LOCATION:Grays Harbor College Aberdeen\, WA
UID:e.26.11858
SEQUENCE:3
DTSTAMP:20260424T151211Z
URL:https://chamber.graysharbor.org/events/details/boards-in-gear-non-profit-workshop-11858
END:VEVENT

END:VCALENDAR
