BEGIN:VCALENDAR
VERSION:2.0
PRODID:-//ChamberMaster//Event Calendar 2.0//EN
METHOD:PUBLISH
X-PUBLISHED-TTL:P3D
REFRESH-INTERVAL:P3D
CALSCALE:GREGORIAN
BEGIN:VEVENT
DTSTART:20181021T010000Z
DTEND:20181021T060000Z
X-MICROSOFT-CDO-ALLDAYEVENT:FALSE
SUMMARY:Bobcat Booster Club Auction
DESCRIPTION:Join us for our Annual Bobcat Booster Club Auction at the Aberdeen Elks on Saturday\, October 20th! Doors will open at 6:00p and the first silent table will close at 7:00p. There will be a live auction as well. We will have Steak or Chicken dinner options. Ages 21+ ONLY. No host bar available. Tickets are $45 each. VIP tables are $450 and will seat 8 people! Join us for a night out and help support the sports teams and activities of Aberdeen High School!
X-ALT-DESC;FMTTYPE=text/html:<span style="color: rgb(29\, 33\, 41)\; font-family: Helvetica\, Arial\, sans-serif\; font-size: 14px\; background-color: rgb(255\, 255\, 255)\;">Join us for our Annual Bobcat Booster Club Auction at the Aberdeen Elks on Saturday\, October 20th! Doors will open at 6:00p and the first silent table will close at 7:00p. There will be a live auction as well. We will have Steak or Chicken dinner options. Ages 21+ ONLY. No host bar available. Tickets are $45 each. VIP tables are $450 and will seat 8 people! Join us for a night out and help support the sports teams and activities of Aberdeen High School!</span>
LOCATION:Aberdeen Elks 1712 S Boone St. Aberdeen\, WA
UID:e.26.11195
SEQUENCE:3
DTSTAMP:20260425T002145Z
URL:https://chamber.graysharbor.org/events/details/bobcat-booster-club-auction-11195
END:VEVENT

END:VCALENDAR
