BEGIN:VCALENDAR
VERSION:2.0
PRODID:-//ChamberMaster//Event Calendar 2.0//EN
METHOD:PUBLISH
X-PUBLISHED-TTL:P3D
REFRESH-INTERVAL:P3D
CALSCALE:GREGORIAN
BEGIN:VEVENT
DTSTART:20200202T010000Z
DTEND:20200202T050000Z
X-MICROSOFT-CDO-ALLDAYEVENT:FALSE
SUMMARY:Bobcat Music Boosters 31st Annual Dinner & Auction
DESCRIPTION:Aberdeen Bobcat Music Boosters 31st Annual Fundraising Auction!\n\nDinner with Taco/Nacho/Baked potato bar $10/person or $30 for a family of 4. Desserts and beverages available for purchase for $1. We will accept dessert donations for this purpose at the auction or anytime the day of. Lots of great Auction items to bid on! Silent and live auctions both!\n\nFree entertainment from the jazz bands and choir.\n\n\n\nThe Aberdeen Bobcat Music Boosters is a parent volunteer organization that supports the Aberdeen School District Music Students and Directors for Elementary\, Junior High and High School\, bands\, orchestra and choir groups. This is our biggest fundraiser of the year\, and helps us fund scholarships\, trips and equipment needed for the music programs.
X-ALT-DESC;FMTTYPE=text/html:<span style="caret-color: rgb(29\, 33\, 41)\; color: rgb(29\, 33\, 41)\; font-family: system-ui\, -apple-system\, BlinkMacSystemFont\, &quot\;.SFNSText-Regular&quot\;\, sans-serif\; font-size: 14px\; white-space: pre-wrap\;">Aberdeen Bobcat Music Boosters 31st Annual Fundraising Auction!</span><br style="caret-color: rgb(29\, 33\, 41)\; color: rgb(29\, 33\, 41)\; font-family: system-ui\, -apple-system\, BlinkMacSystemFont\, &quot\;.SFNSText-Regular&quot\;\, sans-serif\; font-size: 14px\; white-space: pre-wrap\;" />\n<span style="caret-color: rgb(29\, 33\, 41)\; color: rgb(29\, 33\, 41)\; font-family: system-ui\, -apple-system\, BlinkMacSystemFont\, &quot\;.SFNSText-Regular&quot\;\, sans-serif\; font-size: 14px\; white-space: pre-wrap\;">Dinner with Taco/Nacho/Baked potato bar $10/person or $30 for a family of 4. Desserts and beverages available for purchase for $1. We will accept dessert donations for this purpose at the auction or anytime the day of. </span><span style="caret-color: rgb(29\, 33\, 41)\; color: rgb(29\, 33\, 41)\; font-family: system-ui\, -apple-system\, BlinkMacSystemFont\, &quot\;.SFNSText-Regular&quot\;\, sans-serif\; font-size: 14px\; white-space: pre-wrap\;">Lots of great Auction items to bid on! Silent and live auctions both!</span><br style="caret-color: rgb(29\, 33\, 41)\; color: rgb(29\, 33\, 41)\; font-family: system-ui\, -apple-system\, BlinkMacSystemFont\, &quot\;.SFNSText-Regular&quot\;\, sans-serif\; font-size: 14px\; white-space: pre-wrap\;" />\n<span style="caret-color: rgb(29\, 33\, 41)\; color: rgb(29\, 33\, 41)\; font-family: system-ui\, -apple-system\, BlinkMacSystemFont\, &quot\;.SFNSText-Regular&quot\;\, sans-serif\; font-size: 14px\; white-space: pre-wrap\;">Free entertainment from the jazz bands and choir.</span><br style="caret-color: rgb(29\, 33\, 41)\; color: rgb(29\, 33\, 41)\; font-family: system-ui\, -apple-system\, BlinkMacSystemFont\, &quot\;.SFNSText-Regular&quot\;\, sans-serif\; font-size: 14px\; white-space: pre-wrap\;" />\n<br style="caret-color: rgb(29\, 33\, 41)\; color: rgb(29\, 33\, 41)\; font-family: system-ui\, -apple-system\, BlinkMacSystemFont\, &quot\;.SFNSText-Regular&quot\;\, sans-serif\; font-size: 14px\; white-space: pre-wrap\;" />\n<span style="caret-color: rgb(29\, 33\, 41)\; color: rgb(29\, 33\, 41)\; font-family: system-ui\, -apple-system\, BlinkMacSystemFont\, &quot\;.SFNSText-Regular&quot\;\, sans-serif\; font-size: 14px\; white-space: pre-wrap\;">The Aberdeen Bobcat Music Boosters is a parent volunteer organization that supports the Aberdeen School District Music Students and Directors for Elementary\, Junior High and High School\, bands\, orchestra and choir groups. This is our biggest fundraiser of the year\, and helps us fund scholarships\, trips and equipment needed for the music programs.</span>
LOCATION:pin Aberdeen High School (Washington) Aberdeen\, Washington 98520
UID:e.26.12350
SEQUENCE:3
DTSTAMP:20260424T042136Z
URL:https://chamber.graysharbor.org/events/details/bobcat-music-boosters-31st-annual-dinner-auction-12350
END:VEVENT

END:VCALENDAR
