BEGIN:VCALENDAR
VERSION:2.0
PRODID:-//ChamberMaster//Event Calendar 2.0//EN
METHOD:PUBLISH
X-PUBLISHED-TTL:P3D
REFRESH-INTERVAL:P3D
CALSCALE:GREGORIAN
BEGIN:VEVENT
DTSTART:20180128T020000Z
DTEND:20180128T060000Z
X-MICROSOFT-CDO-ALLDAYEVENT:FALSE
SUMMARY:Bobcat Music Boosters' Annual Auction
DESCRIPTION:The Bobcat Music Boosters provide support services to Aberdeen School District music teachers at all grade levels and scholarships to graduating seniors. This is our premier fundraising event with both live and silent auctions and musical performances by the Miller Junior High Jazz Ensemble and the Aberdeen High School Jazz Ensemble! Admission.
X-ALT-DESC;FMTTYPE=text/html:The Bobcat Music Boosters provide support services to Aberdeen School District music teachers at all grade levels and scholarships to graduating seniors. This is our premier fundraising event with both live and silent auctions and musical performances by the Miller Junior High Jazz Ensemble and the Aberdeen High School Jazz Ensemble! Admission.
LOCATION:Aberdeen High School Commons
UID:e.26.9460
SEQUENCE:3
DTSTAMP:20260425T145809Z
URL:https://chamber.graysharbor.org/events/details/bobcat-music-boosters-annual-auction-9460
END:VEVENT

END:VCALENDAR
