BEGIN:VCALENDAR
VERSION:2.0
PRODID:-//ChamberMaster//Event Calendar 2.0//EN
METHOD:PUBLISH
X-PUBLISHED-TTL:P3D
REFRESH-INTERVAL:P3D
CALSCALE:GREGORIAN
BEGIN:VEVENT
DTSTART;VALUE=DATE:20190824
DTEND;VALUE=DATE:20190826
TRANSP:TRANSPARENT
X-MICROSOFT-CDO-ALLDAYEVENT:TRUE
SUMMARY:Body and Soul Festival
DESCRIPTION:LEARN ALL ABOUT A NATURAL AND HOMEOPATHIC WAY OF LIFE.
X-ALT-DESC;FMTTYPE=text/html:<span style="background-color:rgb(255\, 255\, 255)\; color:rgb(128\, 128\, 128)\; font-family:lato\,sans-serif\; font-size:17.008px">LEARN ALL ABOUT A NATURAL AND HOMEOPATHIC WAY OF LIFE.</span>
LOCATION:Ocean Shores Convention Center 120 W Chance A La Mer Ave Ocean Shores\, WA 98569
UID:e.26.11871
SEQUENCE:3
DTSTAMP:20260424T104709Z
URL:https://chamber.graysharbor.org/events/details/body-and-soul-festival-11871
END:VEVENT

END:VCALENDAR
