BEGIN:VCALENDAR
VERSION:2.0
PRODID:-//ChamberMaster//Event Calendar 2.0//EN
METHOD:PUBLISH
X-PUBLISHED-TTL:P3D
REFRESH-INTERVAL:P3D
CALSCALE:GREGORIAN
BEGIN:VEVENT
DTSTART:20130128T184500Z
DTEND:20130128T190500Z
X-MICROSOFT-CDO-ALLDAYEVENT:FALSE
SUMMARY:Book Babies
DESCRIPTION:Join in a program of short stories\, songs\, rhymes and knee bounces. Discover the joy of early language with your baby. Each baby must be accompanied by an adult lap. After the program\, adults can visit while babies play with toys and sturdy books. For babies birth to 24 months.
X-ALT-DESC;FMTTYPE=text/html:Join in a program of short stories\, songs\, rhymes and knee bounces. Discover the joy of early language with your baby. Each baby must be accompanied by an adult lap. After the program\, adults can visit while babies play with toys and sturdy books. For babies birth to 24 months. 
LOCATION:Aberdeen Timberland Library. 121 East Market Street\, Aberdeen\, WA 98520
UID:e.26.2521
SEQUENCE:3
DTSTAMP:20260422T071915Z
URL:https://chamber.graysharbor.org/events/details/book-babies-01-28-2013-2521
END:VEVENT

END:VCALENDAR
