BEGIN:VCALENDAR
VERSION:2.0
PRODID:-//ChamberMaster//Event Calendar 2.0//EN
METHOD:PUBLISH
X-PUBLISHED-TTL:P3D
REFRESH-INTERVAL:P3D
CALSCALE:GREGORIAN
BEGIN:VEVENT
DTSTART:20130311T174500Z
DTEND:20130311T180500Z
X-MICROSOFT-CDO-ALLDAYEVENT:FALSE
SUMMARY:Book Babies
DESCRIPTION:Join in a program of short stories\, songs\, rhymes and knee bounces. Discover the joy of early language with your baby. Each baby must be accompanied by an adult lap. After the program\, adults can visit while babies play with toys and sturdy books. For babies birth to 24 months.
X-ALT-DESC;FMTTYPE=text/html:Join in a program of short stories\, songs\, rhymes and knee bounces. Discover the joy of early language with your baby. Each baby must be accompanied by an adult lap. After the program\, adults can visit while babies play with toys and sturdy books. For babies birth to 24 months. 
LOCATION:Aberdeen Timberland Library. 121 East Market Street\, Aberdeen\, WA 98520
UID:e.26.2581
SEQUENCE:3
DTSTAMP:20260423T113910Z
URL:https://chamber.graysharbor.org/events/details/book-babies-03-11-2013-2581
END:VEVENT

END:VCALENDAR
