BEGIN:VCALENDAR
VERSION:2.0
PRODID:-//ChamberMaster//Event Calendar 2.0//EN
METHOD:PUBLISH
X-PUBLISHED-TTL:P3D
REFRESH-INTERVAL:P3D
CALSCALE:GREGORIAN
BEGIN:VEVENT
DTSTART:20190228T020000Z
DTEND:20190228T030000Z
X-MICROSOFT-CDO-ALLDAYEVENT:FALSE
SUMMARY:Books on 8th
DESCRIPTION:Join us on February 27th when Books on 8th will be discussing "Scythe" by Neal Shusterman. Join Sarah from Hoquiam Timberland Library to talk about our current book club selection\, grab some dinner\, and make new friends.\n\n\n\nFor adults 21+
X-ALT-DESC;FMTTYPE=text/html:<span style="caret-color: rgb(29\, 33\, 41)\; color: rgb(29\, 33\, 41)\; font-family: system-ui\, -apple-system\, BlinkMacSystemFont\, &quot\;.SFNSText-Regular&quot\;\, sans-serif\; font-size: 14px\; background-color: rgb(255\, 255\, 255)\;">Join us on February 27th when Books on 8th will be discussing &quot\;Scythe&quot\; by Neal Shusterman. Join Sarah from Hoquiam Timberland Library to talk about our current book club selection\, grab some dinner\, and make new friends.</span><br style="caret-color: rgb(29\, 33\, 41)\; color: rgb(29\, 33\, 41)\; font-family: system-ui\, -apple-system\, BlinkMacSystemFont\, &quot\;.SFNSText-Regular&quot\;\, sans-serif\; font-size: 14px\;" />\n<br style="caret-color: rgb(29\, 33\, 41)\; color: rgb(29\, 33\, 41)\; font-family: system-ui\, -apple-system\, BlinkMacSystemFont\, &quot\;.SFNSText-Regular&quot\;\, sans-serif\; font-size: 14px\;" />\n<span style="caret-color: rgb(29\, 33\, 41)\; color: rgb(29\, 33\, 41)\; font-family: system-ui\, -apple-system\, BlinkMacSystemFont\, &quot\;.SFNSText-Regular&quot\;\, sans-serif\; font-size: 14px\; background-color: rgb(255\, 255\, 255)\;">For adults 21+</span>
LOCATION:8th Street Ale House Hoquiam\, WA
UID:e.26.11354
SEQUENCE:3
DTSTAMP:20260424T181408Z
URL:https://chamber.graysharbor.org/events/details/books-on-8th-11354
END:VEVENT

END:VCALENDAR
