BEGIN:VCALENDAR
VERSION:2.0
PRODID:-//ChamberMaster//Event Calendar 2.0//EN
METHOD:PUBLISH
X-PUBLISHED-TTL:P3D
REFRESH-INTERVAL:P3D
CALSCALE:GREGORIAN
BEGIN:VEVENT
DTSTART:20180118T020000Z
DTEND:20180118T030000Z
X-MICROSOFT-CDO-ALLDAYEVENT:FALSE
SUMMARY:Books on 8th
DESCRIPTION:Join us for the first Books on 8th discussion of 2018! The selected book we will be discussing is Leah Bardugo's "Six of Crows." Join Sarah from Hoquiam Timberland Library to talk about our current book club selection\, grab some dinner\, and make new friends.\n\n\n\nFor adults 21+
X-ALT-DESC;FMTTYPE=text/html:<span style="color: rgb(75\, 79\, 86)\; font-family: Helvetica\, Arial\, sans-serif\; font-size: 14px\; background-color: rgb(255\, 255\, 255)\;">Join us for the first Books on 8th discussion of 2018! The selected book we will be discussing is Leah Bardugo&#39\;s &quot\;Six of Crows.&quot\; Join Sarah from Hoquiam Timberland Library to talk about our current book club selection\, grab some dinner\, and make new friends.</span><br style="color: rgb(75\, 79\, 86)\; font-family: Helvetica\, Arial\, sans-serif\; font-size: 14px\; background-color: rgb(255\, 255\, 255)\;" />\n<br style="color: rgb(75\, 79\, 86)\; font-family: Helvetica\, Arial\, sans-serif\; font-size: 14px\; background-color: rgb(255\, 255\, 255)\;" />\n<span style="color: rgb(75\, 79\, 86)\; font-family: Helvetica\, Arial\, sans-serif\; font-size: 14px\; background-color: rgb(255\, 255\, 255)\;">For adults 21+</span>
LOCATION:8th St. Ale House Hoquiam\, WA
UID:e.26.9450
SEQUENCE:3
DTSTAMP:20260425T163627Z
URL:https://chamber.graysharbor.org/events/details/books-on-8th-9450
END:VEVENT

END:VCALENDAR
