BEGIN:VCALENDAR
VERSION:2.0
PRODID:-//ChamberMaster//Event Calendar 2.0//EN
METHOD:PUBLISH
X-PUBLISHED-TTL:P3D
REFRESH-INTERVAL:P3D
CALSCALE:GREGORIAN
BEGIN:VEVENT
DTSTART:20190323T170000Z
DTEND:20190323T190000Z
X-MICROSOFT-CDO-ALLDAYEVENT:FALSE
SUMMARY:Boots 'N Brellas Festival
DESCRIPTION:You don't have to be Mary Poppins to enjoy a fun Umbrella Festival.\n\nJoin us on Saturday\, March 23 as we welcome spring and its temperamental weather with our Boots 'N Brellas Festival. \n\nThe festivities will begin at 10am with our Umbrella Parade. Breakout your best bumbershoot as parade officials will be awarding prizes for the most creative umbrella. \n\nThe festivities continue throughout Seabrook with a roving circus\, jugglers\, performers\, and fire-eaters. \n\nStroll over to Front Street where you can enjoy cookies\, popcorn\, cocoa\, a candy buffet\, and craft vendors selling various goods.\n\nStop by Meriweather Square and build your own sandcastle with Eric Hawley\, professional sandscultptor. \n\nOn this day\, join us to honor one of the world's most useful inventions\, the umbrella!  Not only does the umbrella help keep you dry from the rain\, but it also protects you from the heat of the sun.  Umbrellas can also be used as a fashion accessory.\n\nAs Jimmy Fallon once said "I didn't invent the rain. I just own the best umbrella."
X-ALT-DESC;FMTTYPE=text/html:<p style="font-size: 16px\; box-sizing: border-box\; margin: 0px 0px 1.25em\; padding: 0px\; direction: ltr\; font-family: myriad-pro\, sans-serif\; line-height: 1.45\; text-rendering: optimizeLegibility\; letter-spacing: 0.47999998927116394px\; caret-color: rgb(84\, 102\, 108)\; color: rgb(84\, 102\, 108)\;">You don&rsquo\;t have to be Mary Poppins to enjoy a fun Umbrella Festival.</p>\n\n<p style="font-size: 16px\; box-sizing: border-box\; margin: 0px 0px 1.25em\; padding: 0px\; direction: ltr\; font-family: myriad-pro\, sans-serif\; line-height: 1.45\; text-rendering: optimizeLegibility\; letter-spacing: 0.47999998927116394px\; caret-color: rgb(84\, 102\, 108)\; color: rgb(84\, 102\, 108)\;">Join us on&nbsp\;<strong style="box-sizing: border-box\; line-height: 1.45\;">Saturday\, March 23</strong>&nbsp\;as we welcome spring and its temperamental weather with our&nbsp\;<strong style="box-sizing: border-box\; line-height: 1.45\;">Boots &#39\;N Brellas Festival</strong>.&nbsp\;</p>\n\n<p style="font-size: 16px\; box-sizing: border-box\; margin: 0px 0px 1.25em\; padding: 0px\; direction: ltr\; font-family: myriad-pro\, sans-serif\; line-height: 1.45\; text-rendering: optimizeLegibility\; letter-spacing: 0.47999998927116394px\; caret-color: rgb(84\, 102\, 108)\; color: rgb(84\, 102\, 108)\;">The festivities will begin at 10am with our Umbrella Parade. Breakout your best bumbershoot as parade officials will be awarding prizes for the most creative umbrella.&nbsp\;</p>\n\n<p style="font-size: 16px\; box-sizing: border-box\; margin: 0px 0px 1.25em\; padding: 0px\; direction: ltr\; font-family: myriad-pro\, sans-serif\; line-height: 1.45\; text-rendering: optimizeLegibility\; letter-spacing: 0.47999998927116394px\; caret-color: rgb(84\, 102\, 108)\; color: rgb(84\, 102\, 108)\;">The festivities continue throughout Seabrook with a roving circus\, jugglers\, performers\, and fire-eaters.&nbsp\;</p>\n\n<p style="font-size: 16px\; box-sizing: border-box\; margin: 0px 0px 1.25em\; padding: 0px\; direction: ltr\; font-family: myriad-pro\, sans-serif\; line-height: 1.45\; text-rendering: optimizeLegibility\; letter-spacing: 0.47999998927116394px\; caret-color: rgb(84\, 102\, 108)\; color: rgb(84\, 102\, 108)\;">Stroll over to Front Street where you can enjoy cookies\, popcorn\, cocoa\, a candy buffet\, and craft vendors selling various goods.</p>\n\n<p style="font-size: 16px\; box-sizing: border-box\; margin: 0px 0px 1.25em\; padding: 0px\; direction: ltr\; font-family: myriad-pro\, sans-serif\; line-height: 1.45\; text-rendering: optimizeLegibility\; letter-spacing: 0.47999998927116394px\; caret-color: rgb(84\, 102\, 108)\; color: rgb(84\, 102\, 108)\;">Stop by Meriweather Square and build your own sandcastle with Eric Hawley\, professional sandscultptor.&nbsp\;</p>\n\n<p style="font-size: 16px\; box-sizing: border-box\; margin: 0px 0px 1.25em\; padding: 0px\; direction: ltr\; font-family: myriad-pro\, sans-serif\; line-height: 1.45\; text-rendering: optimizeLegibility\; letter-spacing: 0.47999998927116394px\; caret-color: rgb(84\, 102\, 108)\; color: rgb(84\, 102\, 108)\;">On this day\, join us to honor one of the world&rsquo\;s most useful inventions\, the umbrella! &nbsp\;Not only does the umbrella help keep you dry from the rain\, but it also protects you from the heat of the sun. &nbsp\;Umbrellas can also be used as a fashion&nbsp\;accessory.</p>\n\n<p style="font-size: 16px\; box-sizing: border-box\; margin: 0px 0px 1.25em\; padding: 0px\; direction: ltr\; font-family: myriad-pro\, sans-serif\; line-height: 1.45\; text-rendering: optimizeLegibility\; letter-spacing: 0.47999998927116394px\; caret-color: rgb(84\, 102\, 108)\; color: rgb(84\, 102\, 108)\;">As Jimmy Fallon once said &ldquo\;I didn&rsquo\;t invent the rain. I just own the best umbrella.&rdquo\;</p>\n
LOCATION:Seabrook Pacific Beach\, WA
UID:e.26.11623
SEQUENCE:3
DTSTAMP:20260424T163553Z
URL:https://chamber.graysharbor.org/events/details/boots-n-brellas-festival-11623
END:VEVENT

END:VCALENDAR
