BEGIN:VCALENDAR
VERSION:2.0
PRODID:-//ChamberMaster//Event Calendar 2.0//EN
METHOD:PUBLISH
X-PUBLISHED-TTL:P3D
REFRESH-INTERVAL:P3D
CALSCALE:GREGORIAN
BEGIN:VEVENT
DTSTART:20180217T000000Z
DTEND:20180217T040000Z
X-MICROSOFT-CDO-ALLDAYEVENT:FALSE
SUMMARY:BPOE Lodge #2581 Open House
DESCRIPTION:Please join the Elks for the 150th Anniversary. This event is open to all people of all ages with hamburgers\, chips\, sodas\, and cake. \n\nTour the Lodge\, meet the Officers\, and learn about the many programs and events they sponsor and participate in.
X-ALT-DESC;FMTTYPE=text/html:<div class="_2qgs" style="color: rgb(75\, 79\, 86)\; padding: 12px\; position: relative\; border-top: none\; font-family: Helvetica\, Arial\, sans-serif\; font-size: 12px\;"><span class="_4n-j _3cht fsl" data-testid="event-permalink-details" style="font-size: 14px\; font-family: inherit\;">Please join the Elks for the 150th Anniversary. This event is open to all people of all ages with hamburgers\, chips\, sodas\, and cake.&nbsp\;<br />\nTour the Lodge\, meet the Officers\, and learn about the many programs and events they sponsor and participate in.</span></div>\n\n<div class="_1r51" style="line-height: 24px\; margin: 4px 12px 12px\; min-height: 24px\; font-family: Helvetica\, Arial\, sans-serif\; color: rgb(29\, 33\, 41)\; font-size: 12px\;">\n<ul class="uiList uiCollapsedList uiCollapsedListHidden _509- _4ki" id="u_fetchstream_36_p" style="list-style-type: none\; margin: 0px\; padding: 0px\;"><br />\n	&nbsp\;\n</ul>\n</div>\n
LOCATION:pin Hide Map Ocean Shores Elks Lodge BPOE #2581 199 Ocean Lake Way SW\, Ocean Shores\, Washington 98569
UID:e.26.9517
SEQUENCE:3
DTSTAMP:20260425T132818Z
URL:https://chamber.graysharbor.org/events/details/bpoe-lodge-2581-open-house-9517
END:VEVENT

END:VCALENDAR
