BEGIN:VCALENDAR
VERSION:2.0
PRODID:-//ChamberMaster//Event Calendar 2.0//EN
METHOD:PUBLISH
X-PUBLISHED-TTL:P3D
REFRESH-INTERVAL:P3D
CALSCALE:GREGORIAN
BEGIN:VEVENT
DTSTART:20190914T190000Z
DTEND:20190915T000000Z
X-MICROSOFT-CDO-ALLDAYEVENT:FALSE
SUMMARY:Brady's Oyster Feed
DESCRIPTION:Brady's Annual Oyster Feed will be on Saturday\, September 14th from noon - 5pm.\n\n$20.00 gets you all you can eat while kids 12 and under eat free! On the menu is Steamed\, BBQ'ed\, Oyster Stew\, Clam Chowder\, Coleslaw and Rolls as well as Hot Dogs.\n\n\n\nAll proceeds go towards scholarships at Ocosta High School.\n\n\n\nBrady's Oysters is located on the west end of the Elk River Bridge on HWY 105\, 20 miles west of Aberdeen.\n\nFor more info call 1-800-572-3252 or 360-268-0077
X-ALT-DESC;FMTTYPE=text/html:<span style="font-size:14px\;"><span style="margin: 0px\; padding: 0px\; outline: 0px\; border: 0px rgb(29\, 33\, 41)\; border-image: none\; text-align: left\; color: rgb(29\, 33\, 41)\; text-transform: none\; text-indent: 0px\; letter-spacing: normal\; font-style: normal\; font-variant: normal\; font-weight: 400\; text-decoration: none\; word-spacing: 0px\; vertical-align: baseline\; display: inline\; white-space: pre-wrap\; box-sizing: border-box\; orphans: 2\; float: none\; -ms-text-size-adjust: auto\; -webkit-tap-highlight-color: transparent\; -webkit-text-stroke-width: 0px\; background-color: transparent\;">Brady&#39\;s Annual Oyster Feed will be on </span><span style="margin: 0px\; padding: 0px\; outline: 0px\; border: 0px rgb(29\, 33\, 41)\; border-image: none\; text-align: left\; color: rgb(29\, 33\, 41)\; text-transform: none\; text-indent: 0px\; letter-spacing: normal\; font-style: normal\; font-variant: normal\; font-weight: 400\; text-decoration: none\; word-spacing: 0px\; vertical-align: baseline\; display: inline\; white-space: pre-wrap\; box-sizing: border-box\; orphans: 2\; float: none\; -ms-text-size-adjust: auto\; -webkit-tap-highlight-color: transparent\; -webkit-text-stroke-width: 0px\; background-color: transparent\;">Saturday\, September 14th <font color="#001000" style="box-sizing: border-box\; -ms-text-size-adjust: auto\; -webkit-tap-highlight-color: transparent\;">from noon </font>- 5pm.</span><br style="background-color: transparent\; box-sizing: border-box\; color: rgb(29\, 33\, 41)\; font-style: normal\; font-variant: normal\; font-weight: 400\; letter-spacing: normal\; -ms-text-size-adjust: auto\; orphans: 2\; text-align: left\; text-decoration: none\; text-indent: 0px\; text-transform: none\; -webkit-tap-highlight-color: transparent\; -webkit-text-stroke-width: 0px\; white-space: pre-wrap\; word-spacing: 0px\;" />\n<span style="margin: 0px\; padding: 0px\; outline: 0px\; border: 0px rgb(29\, 33\, 41)\; border-image: none\; text-align: left\; color: rgb(29\, 33\, 41)\; text-transform: none\; text-indent: 0px\; letter-spacing: normal\; font-style: normal\; font-variant: normal\; font-weight: 400\; text-decoration: none\; word-spacing: 0px\; vertical-align: baseline\; display: inline\; white-space: pre-wrap\; box-sizing: border-box\; orphans: 2\; float: none\; -ms-text-size-adjust: auto\; -webkit-tap-highlight-color: transparent\; -webkit-text-stroke-width: 0px\; background-color: transparent\;">$20.00 gets you all you can eat while k</span><span style="margin: 0px\; padding: 0px\; outline: 0px\; border: 0px rgb(29\, 33\, 41)\; border-image: none\; text-align: left\; color: rgb(29\, 33\, 41)\; text-transform: none\; text-indent: 0px\; letter-spacing: normal\; font-style: normal\; font-variant: normal\; font-weight: 400\; text-decoration: none\; word-spacing: 0px\; vertical-align: baseline\; display: inline\; white-space: pre-wrap\; box-sizing: border-box\; orphans: 2\; float: none\; -ms-text-size-adjust: auto\; -webkit-tap-highlight-color: transparent\; -webkit-text-stroke-width: 0px\; background-color: transparent\;">ids 12 and under eat free! On the menu is St</span><span style="margin: 0px\; padding: 0px\; outline: 0px\; border: 0px rgb(29\, 33\, 41)\; border-image: none\; text-align: left\; color: rgb(29\, 33\, 41)\; text-transform: none\; text-indent: 0px\; letter-spacing: normal\; font-style: normal\; font-variant: normal\; font-weight: 400\; text-decoration: none\; word-spacing: 0px\; vertical-align: baseline\; display: inline\; white-space: pre-wrap\; box-sizing: border-box\; orphans: 2\; float: none\; -ms-text-size-adjust: auto\; -webkit-tap-highlight-color: transparent\; -webkit-text-stroke-width: 0px\; background-color: transparent\;">eamed\, BBQ&#39\;ed\, Oyster Stew\, Clam Chowder\, Coleslaw and Rolls as well as </span><span style="margin: 0px\; padding: 0px\; outline: 0px\; border: 0px rgb(29\, 33\, 41)\; border-image: none\; text-align: left\; color: rgb(29\, 33\, 41)\; text-transform: none\; text-indent: 0px\; letter-spacing: normal\; font-style: normal\; font-variant: normal\; font-weight: 400\; text-decoration: none\; word-spacing: 0px\; vertical-align: baseline\; display: inline\; white-space: pre-wrap\; box-sizing: border-box\; orphans: 2\; float: none\; -ms-text-size-adjust: auto\; -webkit-tap-highlight-color: transparent\; -webkit-text-stroke-width: 0px\; background-color: transparent\;">Hot Dogs.</span><br style="background-color: transparent\; box-sizing: border-box\; color: rgb(29\, 33\, 41)\; font-style: normal\; font-variant: normal\; font-weight: 400\; letter-spacing: normal\; -ms-text-size-adjust: auto\; orphans: 2\; text-align: left\; text-decoration: none\; text-indent: 0px\; text-transform: none\; -webkit-tap-highlight-color: transparent\; -webkit-text-stroke-width: 0px\; white-space: pre-wrap\; word-spacing: 0px\;" />\n<br style="background-color: transparent\; box-sizing: border-box\; color: rgb(29\, 33\, 41)\; font-style: normal\; font-variant: normal\; font-weight: 400\; letter-spacing: normal\; -ms-text-size-adjust: auto\; orphans: 2\; text-align: left\; text-decoration: none\; text-indent: 0px\; text-transform: none\; -webkit-tap-highlight-color: transparent\; -webkit-text-stroke-width: 0px\; white-space: pre-wrap\; word-spacing: 0px\;" />\n<span style="margin: 0px\; padding: 0px\; outline: 0px\; border: 0px rgb(29\, 33\, 41)\; border-image: none\; text-align: left\; color: rgb(29\, 33\, 41)\; text-transform: none\; text-indent: 0px\; letter-spacing: normal\; font-style: normal\; font-variant: normal\; font-weight: 400\; text-decoration: none\; word-spacing: 0px\; vertical-align: baseline\; display: inline\; white-space: pre-wrap\; box-sizing: border-box\; orphans: 2\; float: none\; -ms-text-size-adjust: auto\; -webkit-tap-highlight-color: transparent\; -webkit-text-stroke-width: 0px\; background-color: transparent\;">All proceeds go towards scholarships at Ocosta High School.</span><br style="background-color: transparent\; box-sizing: border-box\; color: rgb(29\, 33\, 41)\; font-style: normal\; font-variant: normal\; font-weight: 400\; letter-spacing: normal\; -ms-text-size-adjust: auto\; orphans: 2\; text-align: left\; text-decoration: none\; text-indent: 0px\; text-transform: none\; -webkit-tap-highlight-color: transparent\; -webkit-text-stroke-width: 0px\; white-space: pre-wrap\; word-spacing: 0px\;" />\n<br style="background-color: transparent\; box-sizing: border-box\; color: rgb(29\, 33\, 41)\; font-style: normal\; font-variant: normal\; font-weight: 400\; letter-spacing: normal\; -ms-text-size-adjust: auto\; orphans: 2\; text-align: left\; text-decoration: none\; text-indent: 0px\; text-transform: none\; -webkit-tap-highlight-color: transparent\; -webkit-text-stroke-width: 0px\; white-space: pre-wrap\; word-spacing: 0px\;" />\n<span style="margin: 0px\; padding: 0px\; outline: 0px\; border: 0px rgb(29\, 33\, 41)\; border-image: none\; text-align: left\; color: rgb(29\, 33\, 41)\; text-transform: none\; text-indent: 0px\; letter-spacing: normal\; font-style: normal\; font-variant: normal\; font-weight: 400\; text-decoration: none\; word-spacing: 0px\; vertical-align: baseline\; display: inline\; white-space: pre-wrap\; box-sizing: border-box\; orphans: 2\; float: none\; -ms-text-size-adjust: auto\; -webkit-tap-highlight-color: transparent\; -webkit-text-stroke-width: 0px\; background-color: transparent\;">Brady&#39\;s Oysters is located on the west end of the Elk River Bridge on HWY 105\, 20 miles west of Aberdeen.<br />\nFor more info call 1-800-572-3252 or 360-268-0077</span></span>
LOCATION:Bradys Oysters 3714 Oyster Pl\, Aberdeen\, Washington 98520
UID:e.26.12169
SEQUENCE:3
DTSTAMP:20260424T073831Z
URL:https://chamber.graysharbor.org/events/details/brady-s-oyster-feed-12169
END:VEVENT

END:VCALENDAR
